BEGIN:VCALENDAR
VERSION:2.0
PRODID:-//Flens Golfklubb - ECPv6.15.20//NONSGML v1.0//EN
CALSCALE:GREGORIAN
METHOD:PUBLISH
X-ORIGINAL-URL:https://flensgk.se
X-WR-CALDESC:Händelser för Flens Golfklubb
REFRESH-INTERVAL;VALUE=DURATION:PT1H
X-Robots-Tag:noindex
X-PUBLISHED-TTL:PT1H
BEGIN:VTIMEZONE
TZID:Europe/Stockholm
BEGIN:DAYLIGHT
TZOFFSETFROM:+0100
TZOFFSETTO:+0200
TZNAME:CEST
DTSTART:20250330T010000
END:DAYLIGHT
BEGIN:STANDARD
TZOFFSETFROM:+0200
TZOFFSETTO:+0100
TZNAME:CET
DTSTART:20251026T010000
END:STANDARD
BEGIN:DAYLIGHT
TZOFFSETFROM:+0100
TZOFFSETTO:+0200
TZNAME:CEST
DTSTART:20260329T010000
END:DAYLIGHT
BEGIN:STANDARD
TZOFFSETFROM:+0200
TZOFFSETTO:+0100
TZNAME:CET
DTSTART:20261025T010000
END:STANDARD
BEGIN:DAYLIGHT
TZOFFSETFROM:+0100
TZOFFSETTO:+0200
TZNAME:CEST
DTSTART:20270328T010000
END:DAYLIGHT
BEGIN:STANDARD
TZOFFSETFROM:+0200
TZOFFSETTO:+0100
TZNAME:CET
DTSTART:20271031T010000
END:STANDARD
END:VTIMEZONE
BEGIN:VEVENT
DTSTART;TZID=Europe/Stockholm:20260606T060000
DTEND;TZID=Europe/Stockholm:20260606T070000
DTSTAMP:20260420T191100
CREATED:20260412T074655Z
LAST-MODIFIED:20260412T074655Z
UID:26991-1780725600-1780729200@flensgk.se
SUMMARY:Morronpeggarna
DESCRIPTION:
URL:https://flensgk.se/event/morronpeggarna-5/
END:VEVENT
BEGIN:VEVENT
DTSTART;TZID=Europe/Stockholm:20260606T130000
DTEND;TZID=Europe/Stockholm:20260606T220000
DTSTAMP:20260420T191100
CREATED:20260408T165241Z
LAST-MODIFIED:20260412T120928Z
UID:26887-1780750800-1780783200@flensgk.se
SUMMARY:Sjöslaget
DESCRIPTION:
URL:https://flensgk.se/event/nationaldagstavling/
END:VEVENT
BEGIN:VEVENT
DTSTART;TZID=Europe/Stockholm:20260608T100000
DTEND;TZID=Europe/Stockholm:20260608T103000
DTSTAMP:20260420T191100
CREATED:20260404T123655Z
LAST-MODIFIED:20260404T123655Z
UID:26748-1780912800-1780914600@flensgk.se
SUMMARY:Damernas trivselgolf
DESCRIPTION:
URL:https://flensgk.se/event/damernas-trivselgolf-8/
END:VEVENT
BEGIN:VEVENT
DTSTART;TZID=Europe/Stockholm:20260609T100000
DTEND;TZID=Europe/Stockholm:20260609T101000
DTSTAMP:20260420T191100
CREATED:20260404T094956Z
LAST-MODIFIED:20260404T094956Z
UID:26713-1780999200-1780999800@flensgk.se
SUMMARY:Mellansvenska Veteranserien H75 mot Katrineholm
DESCRIPTION:
URL:https://flensgk.se/event/mellansvenska-veteranserien-h75-mot-katrineholm/
END:VEVENT
BEGIN:VEVENT
DTSTART;TZID=Europe/Stockholm:20260610T073000
DTEND;TZID=Europe/Stockholm:20260610T110000
DTSTAMP:20260420T191100
CREATED:20260404T125641Z
LAST-MODIFIED:20260404T125641Z
UID:26794-1781076600-1781089200@flensgk.se
SUMMARY:Seniorgolf
DESCRIPTION:
URL:https://flensgk.se/event/seniorgolf-5/
END:VEVENT
BEGIN:VEVENT
DTSTART;TZID=Europe/Stockholm:20260610T130000
DTEND;TZID=Europe/Stockholm:20260610T133000
DTSTAMP:20260420T191100
CREATED:20260412T121234Z
LAST-MODIFIED:20260412T121234Z
UID:26999-1781096400-1781098200@flensgk.se
SUMMARY:Hockey gänget
DESCRIPTION:
URL:https://flensgk.se/event/hockey-ganget/
END:VEVENT
BEGIN:VEVENT
DTSTART;TZID=Europe/Stockholm:20260611T100000
DTEND;TZID=Europe/Stockholm:20260611T103000
DTSTAMP:20260420T191100
CREATED:20260412T121344Z
LAST-MODIFIED:20260412T121344Z
UID:27001-1781172000-1781173800@flensgk.se
SUMMARY:Hockey gänget
DESCRIPTION:
URL:https://flensgk.se/event/hockey-ganget-2/
END:VEVENT
BEGIN:VEVENT
DTSTART;TZID=Europe/Stockholm:20260612T100000
DTEND;TZID=Europe/Stockholm:20260612T103000
DTSTAMP:20260420T191100
CREATED:20260412T121532Z
LAST-MODIFIED:20260412T121532Z
UID:27003-1781258400-1781260200@flensgk.se
SUMMARY:Hockey gänget
DESCRIPTION:
URL:https://flensgk.se/event/hockey-ganget-3/
END:VEVENT
BEGIN:VEVENT
DTSTART;TZID=Europe/Stockholm:20260613T080000
DTEND;TZID=Europe/Stockholm:20260613T130000
DTSTAMP:20260420T191100
CREATED:20260408T162629Z
LAST-MODIFIED:20260408T162629Z
UID:26877-1781337600-1781355600@flensgk.se
SUMMARY:Sörmlands Sparbank
DESCRIPTION:Spelform Slagspel\nÖppen för Alla\nSpelsätt Fyrboll\nStartlista publiceras \n11 juni 2026 18:00\n\n\n\nAnmälningsavgift \n200.00 kr\n\nTävlingsgreenfee \n300.00 kr
URL:https://flensgk.se/event/sormlands-sparbank/
END:VEVENT
BEGIN:VEVENT
DTSTART;TZID=Europe/Stockholm:20260613T080000
DTEND;TZID=Europe/Stockholm:20260613T130000
DTSTAMP:20260420T191100
CREATED:20260412T123233Z
LAST-MODIFIED:20260412T123233Z
UID:27005-1781337600-1781355600@flensgk.se
SUMMARY:Sörmlands sparbank
DESCRIPTION:Spelform Slagspel\nÖppen för Alla\nSpelsätt Fyrboll\nStatus Skapad\nStartlista publiceras \n11 juni 2026 18:00\n\n\n\nAnmälningsavgift \n200.00 kr\n\nTävlingsgreenfee \n300.00 kr
URL:https://flensgk.se/event/sormlands-sparbank-2/
END:VEVENT
BEGIN:VEVENT
DTSTART;TZID=Europe/Stockholm:20260614T131000
DTEND;TZID=Europe/Stockholm:20260614T132000
DTSTAMP:20260420T191100
CREATED:20260404T093235Z
LAST-MODIFIED:20260404T093235Z
UID:26698-1781442600-1781443200@flensgk.se
SUMMARY:Seriespel Mixed mot Solbacka
DESCRIPTION:
URL:https://flensgk.se/event/seriespel-mixed-mot-solbacka/
LOCATION:Norrtorps golfbana
END:VEVENT
BEGIN:VEVENT
DTSTART;TZID=Europe/Stockholm:20260614T140000
DTEND;TZID=Europe/Stockholm:20260614T141000
DTSTAMP:20260420T191100
CREATED:20260404T100438Z
LAST-MODIFIED:20260404T100438Z
UID:26726-1781445600-1781446200@flensgk.se
SUMMARY:Seriespel Damer mot Vingåker
DESCRIPTION:
URL:https://flensgk.se/event/seriespel-damer-mot-vingaker/
END:VEVENT
BEGIN:VEVENT
DTSTART;TZID=Europe/Stockholm:20260615T100000
DTEND;TZID=Europe/Stockholm:20260615T103000
DTSTAMP:20260420T191100
CREATED:20260404T123736Z
LAST-MODIFIED:20260404T123736Z
UID:26750-1781517600-1781519400@flensgk.se
SUMMARY:Damernas trivselgolf
DESCRIPTION:
URL:https://flensgk.se/event/damernas-trivselgolf-9/
END:VEVENT
BEGIN:VEVENT
DTSTART;TZID=Europe/Stockholm:20260615T163000
DTEND;TZID=Europe/Stockholm:20260615T165000
DTSTAMP:20260420T191100
CREATED:20260415T095104Z
LAST-MODIFIED:20260415T095104Z
UID:27082-1781541000-1781542200@flensgk.se
SUMMARY:Seriespel H60 mot Katrineholm
DESCRIPTION:
URL:https://flensgk.se/event/seriespel-h60-mot-katrineholm/
END:VEVENT
BEGIN:VEVENT
DTSTART;TZID=Europe/Stockholm:20260617T073000
DTEND;TZID=Europe/Stockholm:20260617T110000
DTSTAMP:20260420T191100
CREATED:20260404T125732Z
LAST-MODIFIED:20260404T125732Z
UID:26796-1781681400-1781694000@flensgk.se
SUMMARY:Seniorgolf
DESCRIPTION:
URL:https://flensgk.se/event/seniorgolf-6/
END:VEVENT
BEGIN:VEVENT
DTSTART;TZID=Europe/Stockholm:20260618T100000
DTEND;TZID=Europe/Stockholm:20260618T102000
DTSTAMP:20260420T191100
CREATED:20260415T093027Z
LAST-MODIFIED:20260415T093027Z
UID:27072-1781776800-1781778000@flensgk.se
SUMMARY:Seriespel H70 mot Åda
DESCRIPTION:
URL:https://flensgk.se/event/seriespel-h70-mot-ada/
END:VEVENT
BEGIN:VEVENT
DTSTART;TZID=Europe/Stockholm:20260622T100000
DTEND;TZID=Europe/Stockholm:20260622T103000
DTSTAMP:20260420T191100
CREATED:20260404T123817Z
LAST-MODIFIED:20260404T123817Z
UID:26752-1782122400-1782124200@flensgk.se
SUMMARY:Damernas trivselgolf
DESCRIPTION:
URL:https://flensgk.se/event/damernas-trivselgolf-10/
END:VEVENT
BEGIN:VEVENT
DTSTART;TZID=Europe/Stockholm:20260622T163000
DTEND;TZID=Europe/Stockholm:20260622T165000
DTSTAMP:20260420T191100
CREATED:20260415T095507Z
LAST-MODIFIED:20260415T095507Z
UID:27084-1782145800-1782147000@flensgk.se
SUMMARY:Seriespel H60 mot Kiladalen
DESCRIPTION:
URL:https://flensgk.se/event/seriespel-h60-mot-kiladalen/
END:VEVENT
BEGIN:VEVENT
DTSTART;TZID=Europe/Stockholm:20260624T073000
DTEND;TZID=Europe/Stockholm:20260624T110000
DTSTAMP:20260420T191100
CREATED:20260404T125825Z
LAST-MODIFIED:20260404T125825Z
UID:26798-1782286200-1782298800@flensgk.se
SUMMARY:Seniorgolf röd/orange
DESCRIPTION:
URL:https://flensgk.se/event/seniorgolf-rod-orange-2/
END:VEVENT
BEGIN:VEVENT
DTSTART;TZID=Europe/Stockholm:20260627T090000
DTEND;TZID=Europe/Stockholm:20260627T130000
DTSTAMP:20260420T191100
CREATED:20260408T162842Z
LAST-MODIFIED:20260408T162842Z
UID:26879-1782550800-1782565200@flensgk.se
SUMMARY:Race to Oliva
DESCRIPTION:
URL:https://flensgk.se/event/race-to-oliva/
LOCATION:Norrtorps golfbana
END:VEVENT
BEGIN:VEVENT
DTSTART;TZID=Europe/Stockholm:20260628T131000
DTEND;TZID=Europe/Stockholm:20260628T132000
DTSTAMP:20260420T191100
CREATED:20260404T093352Z
LAST-MODIFIED:20260404T093352Z
UID:26700-1782652200-1782652800@flensgk.se
SUMMARY:Seriespel Mixed mot Katrineholm
DESCRIPTION:
URL:https://flensgk.se/event/seriespel-mixed-mot-katrineholm/
END:VEVENT
BEGIN:VEVENT
DTSTART;TZID=Europe/Stockholm:20260628T140000
DTEND;TZID=Europe/Stockholm:20260628T141000
DTSTAMP:20260420T191100
CREATED:20260404T100530Z
LAST-MODIFIED:20260404T100530Z
UID:26728-1782655200-1782655800@flensgk.se
SUMMARY:Seriespel Damer mot Katrineholm
DESCRIPTION:
URL:https://flensgk.se/event/seriespel-damer-mot-katrineholm/
END:VEVENT
BEGIN:VEVENT
DTSTART;TZID=Europe/Stockholm:20260629T100000
DTEND;TZID=Europe/Stockholm:20260629T103000
DTSTAMP:20260420T191100
CREATED:20260404T123858Z
LAST-MODIFIED:20260404T123858Z
UID:26754-1782727200-1782729000@flensgk.se
SUMMARY:Damernas trivselgolf
DESCRIPTION:
URL:https://flensgk.se/event/damernas-trivselgolf-11/
END:VEVENT
BEGIN:VEVENT
DTSTART;TZID=Europe/Stockholm:20260630T120000
DTEND;TZID=Europe/Stockholm:20260630T150000
DTSTAMP:20260420T191100
CREATED:20260223T130219Z
LAST-MODIFIED:20260325T132733Z
UID:26310-1782820800-1782831600@flensgk.se
SUMMARY:Grönt kort\, Nybörjar kurs nr 3\, 30/6 & 1/7
DESCRIPTION:Vad ingår i Grönt Kort\, Nybörjarkurs\n\n2*3h (sving\, pitch\, chip. putt och bunker).\nTeorimaterial online.\nLån av utrustning vid behov.\nFria träningsbollar på rangen under kursen.\nVi erbjuder faddergolf för träning och uppspel på banan.\nGrönt kort erhålles efter genomfört program.\n\nAnmäl till info@flensgk.se eller ring 0157-15770 \nPris för kurs\, från 22 år: 1750 kr \nBarn och ungdomar under 22 år erbjuds kursen gratis om de sedan blir medlemmar. \nMedlemskap samma år som kursen: \n1750 kr från 18 år \n700 kr upp till 17 år \nI Medlemskap på Flens GK under säsongen 2026 ingår Golf-ID & försäkring under spel
URL:https://flensgk.se/event/gront-kort-nyborjar-kurs-nr-3-30-6-1-7/
LOCATION:Norrtorps golfbana
ORGANIZER;CN="Flens golfklubb":MAILTO:info@flensgk.se
END:VEVENT
BEGIN:VEVENT
DTSTART;TZID=Europe/Stockholm:20260701T073000
DTEND;TZID=Europe/Stockholm:20260701T110000
DTSTAMP:20260420T191100
CREATED:20260404T125907Z
LAST-MODIFIED:20260404T125907Z
UID:26800-1782891000-1782903600@flensgk.se
SUMMARY:Seniorgolf
DESCRIPTION:
URL:https://flensgk.se/event/seniorgolf-7/
END:VEVENT
BEGIN:VEVENT
DTSTART;TZID=Europe/Stockholm:20260701T120000
DTEND;TZID=Europe/Stockholm:20260701T150000
DTSTAMP:20260420T191100
CREATED:20260223T130510Z
LAST-MODIFIED:20260325T132807Z
UID:26312-1782907200-1782918000@flensgk.se
SUMMARY:Grönt kort\, Nybörjar kurs nr 3\, 30/6 & 9/5
DESCRIPTION:Vad ingår i Grönt Kort\, Nybörjarkurs\n\n2*3h (sving\, pitch\, chip. putt och bunker).\nTeorimaterial online.\nLån av utrustning vid behov.\nFria träningsbollar på rangen under kursen.\nVi erbjuder faddergolf för träning och uppspel på banan.\nGrönt kort erhålles efter genomfört program.\n\nAnmäl till info@flensgk.se eller ring 0157-15770 \nPris för kurs\, från 22 år: 1750 kr \nBarn och ungdomar under 22 år erbjuds kursen gratis om de sedan blir medlemmar. \nMedlemskap samma år som kursen: \n1750 kr från 18 år \n700 kr upp till 17 år \nI Medlemskap på Flens GK under säsongen 2026 ingår Golf-ID & försäkring under spel
URL:https://flensgk.se/event/gront-kort-nyborjar-kurs-nr-3-30-6-9-5/
LOCATION:Norrtorps golfbana
ORGANIZER;CN="Flens golfklubb":MAILTO:info@flensgk.se
END:VEVENT
BEGIN:VEVENT
DTSTART;TZID=Europe/Stockholm:20260702T163000
DTEND;TZID=Europe/Stockholm:20260702T164000
DTSTAMP:20260420T191100
CREATED:20260415T102343Z
LAST-MODIFIED:20260415T102343Z
UID:27096-1783009800-1783010400@flensgk.se
SUMMARY:Seriespel Herr mot Strängnäs
DESCRIPTION:
URL:https://flensgk.se/event/seriespel-herr-mot-strangnas/
END:VEVENT
BEGIN:VEVENT
DTSTART;TZID=Europe/Stockholm:20260706T100000
DTEND;TZID=Europe/Stockholm:20260706T103000
DTSTAMP:20260420T191100
CREATED:20260404T123941Z
LAST-MODIFIED:20260404T123941Z
UID:26756-1783332000-1783333800@flensgk.se
SUMMARY:Damernas trivselgolf
DESCRIPTION:
URL:https://flensgk.se/event/damernas-trivselgolf-12/
END:VEVENT
BEGIN:VEVENT
DTSTART;TZID=Europe/Stockholm:20260708T073000
DTEND;TZID=Europe/Stockholm:20260708T110000
DTSTAMP:20260420T191100
CREATED:20260404T125953Z
LAST-MODIFIED:20260404T125953Z
UID:26802-1783495800-1783508400@flensgk.se
SUMMARY:Seniorgolf
DESCRIPTION:
URL:https://flensgk.se/event/seniorgolf-8/
END:VEVENT
BEGIN:VEVENT
DTSTART;TZID=Europe/Stockholm:20260713T100000
DTEND;TZID=Europe/Stockholm:20260713T103000
DTSTAMP:20260420T191100
CREATED:20260404T124023Z
LAST-MODIFIED:20260404T124023Z
UID:26758-1783936800-1783938600@flensgk.se
SUMMARY:Damernas trivselgolf
DESCRIPTION:
URL:https://flensgk.se/event/damernas-trivselgolf-13/
END:VEVENT
END:VCALENDAR