BEGIN:VCALENDAR
VERSION:2.0
PRODID:-//Flens Golfklubb - ECPv6.15.20//NONSGML v1.0//EN
CALSCALE:GREGORIAN
METHOD:PUBLISH
X-ORIGINAL-URL:https://flensgk.se
X-WR-CALDESC:Händelser för Flens Golfklubb
REFRESH-INTERVAL;VALUE=DURATION:PT1H
X-Robots-Tag:noindex
X-PUBLISHED-TTL:PT1H
BEGIN:VTIMEZONE
TZID:Europe/Stockholm
BEGIN:DAYLIGHT
TZOFFSETFROM:+0100
TZOFFSETTO:+0200
TZNAME:CEST
DTSTART:20250330T010000
END:DAYLIGHT
BEGIN:STANDARD
TZOFFSETFROM:+0200
TZOFFSETTO:+0100
TZNAME:CET
DTSTART:20251026T010000
END:STANDARD
BEGIN:DAYLIGHT
TZOFFSETFROM:+0100
TZOFFSETTO:+0200
TZNAME:CEST
DTSTART:20260329T010000
END:DAYLIGHT
BEGIN:STANDARD
TZOFFSETFROM:+0200
TZOFFSETTO:+0100
TZNAME:CET
DTSTART:20261025T010000
END:STANDARD
BEGIN:DAYLIGHT
TZOFFSETFROM:+0100
TZOFFSETTO:+0200
TZNAME:CEST
DTSTART:20270328T010000
END:DAYLIGHT
BEGIN:STANDARD
TZOFFSETFROM:+0200
TZOFFSETTO:+0100
TZNAME:CET
DTSTART:20271031T010000
END:STANDARD
END:VTIMEZONE
BEGIN:VEVENT
DTSTART;VALUE=DATE:20260518
DTEND;VALUE=DATE:20260519
DTSTAMP:20260420T202523
CREATED:20260418T062228Z
LAST-MODIFIED:20260418T062228Z
UID:27135-1779062400-1779148799@flensgk.se
SUMMARY:Mia jobbar
DESCRIPTION:
URL:https://flensgk.se/event/mia-jobbar-13/
END:VEVENT
BEGIN:VEVENT
DTSTART;TZID=Europe/Stockholm:20260518T100000
DTEND;TZID=Europe/Stockholm:20260518T103000
DTSTAMP:20260420T202523
CREATED:20260404T123419Z
LAST-MODIFIED:20260404T123419Z
UID:26742-1779098400-1779100200@flensgk.se
SUMMARY:Damernas trivselgolf
DESCRIPTION:
URL:https://flensgk.se/event/damernas-trivselgolf-5/
END:VEVENT
BEGIN:VEVENT
DTSTART;VALUE=DATE:20260519
DTEND;VALUE=DATE:20260520
DTSTAMP:20260420T202523
CREATED:20260418T062305Z
LAST-MODIFIED:20260418T062305Z
UID:27137-1779148800-1779235199@flensgk.se
SUMMARY:Mia jobbar
DESCRIPTION:
URL:https://flensgk.se/event/mia-jobbar-14/
END:VEVENT
BEGIN:VEVENT
DTSTART;TZID=Europe/Stockholm:20260519T100000
DTEND;TZID=Europe/Stockholm:20260519T101000
DTSTAMP:20260420T202523
CREATED:20260404T094205Z
LAST-MODIFIED:20260404T094205Z
UID:26708-1779184800-1779185400@flensgk.se
SUMMARY:Mellansvenska Veteranserien H75 mot Nyköping
DESCRIPTION:
URL:https://flensgk.se/event/mellansvenska-veteranserien-h75-mot-nykoping/
END:VEVENT
BEGIN:VEVENT
DTSTART;TZID=Europe/Stockholm:20260519T102000
DTEND;TZID=Europe/Stockholm:20260519T103000
DTSTAMP:20260420T202523
CREATED:20260404T094032Z
LAST-MODIFIED:20260404T094032Z
UID:26706-1779186000-1779186600@flensgk.se
SUMMARY:Seriespel D60 mot Kallfors
DESCRIPTION:
URL:https://flensgk.se/event/seriespel-d60-mot-kallfors/
END:VEVENT
BEGIN:VEVENT
DTSTART;VALUE=DATE:20260520
DTEND;VALUE=DATE:20260521
DTSTAMP:20260420T202523
CREATED:20260418T062355Z
LAST-MODIFIED:20260418T062355Z
UID:27139-1779235200-1779321599@flensgk.se
SUMMARY:Åsa jobbar
DESCRIPTION:
URL:https://flensgk.se/event/asa-jobbar-8/
END:VEVENT
BEGIN:VEVENT
DTSTART;TZID=Europe/Stockholm:20260520T073000
DTEND;TZID=Europe/Stockholm:20260520T110000
DTSTAMP:20260420T202523
CREATED:20260404T125253Z
LAST-MODIFIED:20260404T125253Z
UID:26790-1779262200-1779274800@flensgk.se
SUMMARY:Seniorgolf
DESCRIPTION:
URL:https://flensgk.se/event/seniorgolf-4/
END:VEVENT
BEGIN:VEVENT
DTSTART;VALUE=DATE:20260521
DTEND;VALUE=DATE:20260522
DTSTAMP:20260420T202523
CREATED:20260418T062436Z
LAST-MODIFIED:20260418T062436Z
UID:27141-1779321600-1779407999@flensgk.se
SUMMARY:Åsa jobbar
DESCRIPTION:
URL:https://flensgk.se/event/asa-jobbar-9/
END:VEVENT
BEGIN:VEVENT
DTSTART;VALUE=DATE:20260522
DTEND;VALUE=DATE:20260523
DTSTAMP:20260420T202523
CREATED:20260418T062512Z
LAST-MODIFIED:20260418T062512Z
UID:27143-1779408000-1779494399@flensgk.se
SUMMARY:Mia jobbar
DESCRIPTION:
URL:https://flensgk.se/event/mia-jobbar-15/
END:VEVENT
BEGIN:VEVENT
DTSTART;TZID=Europe/Stockholm:20260522T100000
DTEND;TZID=Europe/Stockholm:20260522T113000
DTSTAMP:20260420T202523
CREATED:20260408T160154Z
LAST-MODIFIED:20260415T080815Z
UID:26865-1779444000-1779449400@flensgk.se
SUMMARY:SPF Flenbygden 2026
DESCRIPTION:
URL:https://flensgk.se/event/spf-flenbygden-2026/
LOCATION:Norrtorps golfbana
ORGANIZER;CN="Flens golfklubb":MAILTO:info@flensgk.se
END:VEVENT
BEGIN:VEVENT
DTSTART;VALUE=DATE:20260523
DTEND;VALUE=DATE:20260524
DTSTAMP:20260420T202523
CREATED:20260418T062556Z
LAST-MODIFIED:20260418T062556Z
UID:27145-1779494400-1779580799@flensgk.se
SUMMARY:Mia jobbar
DESCRIPTION:
URL:https://flensgk.se/event/mia-jobbar-16/
END:VEVENT
BEGIN:VEVENT
DTSTART;TZID=Europe/Stockholm:20260523T080000
DTEND;TZID=Europe/Stockholm:20260523T084000
DTSTAMP:20260420T202523
CREATED:20260409T103145Z
LAST-MODIFIED:20260409T103145Z
UID:26960-1779523200-1779525600@flensgk.se
SUMMARY:Morronpeggarna
DESCRIPTION:
URL:https://flensgk.se/event/morronpeggarna-3/
END:VEVENT
BEGIN:VEVENT
DTSTART;TZID=Europe/Stockholm:20260523T120000
DTEND;TZID=Europe/Stockholm:20260523T150000
DTSTAMP:20260420T202523
CREATED:20260223T124124Z
LAST-MODIFIED:20260325T132515Z
UID:26300-1779537600-1779548400@flensgk.se
SUMMARY:Grönt kort\, Nybörjar kurs nr 2\, 23/5 & 30/5
DESCRIPTION:Vad ingår i Grönt Kort\, Nybörjarkurs\n\n2*3h (sving\, pitch\, chip. putt och bunker).\nTeorimaterial online.\nLån av utrustning vid behov.\nFria träningsbollar på rangen under kursen.\nVi erbjuder faddergolf för träning och uppspel på banan.\nGrönt kort erhålles efter genomfört program.\n\nAnmäl till info@flensgk.se eller ring 0157-15770 \nPris för kurs\, från 22 år: 1750 kr \nBarn och ungdomar under 22 år erbjuds kursen gratis om de sedan blir medlemmar. \nMedlemskap samma år som kursen: \n1750 kr från 18 år \n700 kr upp till 17 år \nI Medlemskap på Flens GK under säsongen 2026 ingår Golf-ID & försäkring under spel
URL:https://flensgk.se/event/gront-kort-nyborjar-kurs-nr-2-23-5-30-5/
LOCATION:Norrtorps golfbana
ORGANIZER;CN="Flens golfklubb":MAILTO:info@flensgk.se
END:VEVENT
BEGIN:VEVENT
DTSTART;VALUE=DATE:20260524
DTEND;VALUE=DATE:20260525
DTSTAMP:20260420T202523
CREATED:20260418T063238Z
LAST-MODIFIED:20260418T063238Z
UID:27147-1779580800-1779667199@flensgk.se
SUMMARY:Åsa jobbar
DESCRIPTION:
URL:https://flensgk.se/event/asa-jobbar-10/
END:VEVENT
BEGIN:VEVENT
DTSTART;TZID=Europe/Stockholm:20260524T123000
DTEND;TZID=Europe/Stockholm:20260524T130000
DTSTAMP:20260420T202523
CREATED:20260409T103305Z
LAST-MODIFIED:20260409T103305Z
UID:26962-1779625800-1779627600@flensgk.se
SUMMARY:Söndags Gänget
DESCRIPTION:
URL:https://flensgk.se/event/sondags-ganget-5/
END:VEVENT
BEGIN:VEVENT
DTSTART;VALUE=DATE:20260525
DTEND;VALUE=DATE:20260526
DTSTAMP:20260420T202523
CREATED:20260418T063328Z
LAST-MODIFIED:20260418T063328Z
UID:27149-1779667200-1779753599@flensgk.se
SUMMARY:Åsa jobbar
DESCRIPTION:
URL:https://flensgk.se/event/asa-jobbar-13/
END:VEVENT
BEGIN:VEVENT
DTSTART;TZID=Europe/Stockholm:20260525T100000
DTEND;TZID=Europe/Stockholm:20260525T103000
DTSTAMP:20260420T202523
CREATED:20260404T123502Z
LAST-MODIFIED:20260404T123502Z
UID:26744-1779703200-1779705000@flensgk.se
SUMMARY:Damernas trivselgolf
DESCRIPTION:
URL:https://flensgk.se/event/damernas-trivselgolf-6/
END:VEVENT
BEGIN:VEVENT
DTSTART;VALUE=DATE:20260526
DTEND;VALUE=DATE:20260527
DTSTAMP:20260420T202523
CREATED:20260418T063359Z
LAST-MODIFIED:20260418T063359Z
UID:27151-1779753600-1779839999@flensgk.se
SUMMARY:Åsa jobbar
DESCRIPTION:
URL:https://flensgk.se/event/asa-jobbar-23/
END:VEVENT
BEGIN:VEVENT
DTSTART;VALUE=DATE:20260527
DTEND;VALUE=DATE:20260528
DTSTAMP:20260420T202523
CREATED:20260418T063440Z
LAST-MODIFIED:20260418T063440Z
UID:27153-1779840000-1779926399@flensgk.se
SUMMARY:Mia jobbar
DESCRIPTION:
URL:https://flensgk.se/event/mia-jobbar-17/
END:VEVENT
BEGIN:VEVENT
DTSTART;TZID=Europe/Stockholm:20260527T073000
DTEND;TZID=Europe/Stockholm:20260527T110000
DTSTAMP:20260420T202523
CREATED:20260404T125440Z
LAST-MODIFIED:20260404T125440Z
UID:26792-1779867000-1779879600@flensgk.se
SUMMARY:Seniorgolf röd/orange
DESCRIPTION:
URL:https://flensgk.se/event/seniorgolf-rod-orange/
END:VEVENT
BEGIN:VEVENT
DTSTART;VALUE=DATE:20260528
DTEND;VALUE=DATE:20260529
DTSTAMP:20260420T202523
CREATED:20260418T064059Z
LAST-MODIFIED:20260418T064059Z
UID:27155-1779926400-1780012799@flensgk.se
SUMMARY:Mia jobbar
DESCRIPTION:
URL:https://flensgk.se/event/mia-jobbar-18/
END:VEVENT
BEGIN:VEVENT
DTSTART;TZID=Europe/Stockholm:20260529T130000
DTEND;TZID=Europe/Stockholm:20260529T143000
DTSTAMP:20260420T202523
CREATED:20260409T103431Z
LAST-MODIFIED:20260409T103431Z
UID:26964-1780059600-1780065000@flensgk.se
SUMMARY:Damtoren Mälaren
DESCRIPTION:
URL:https://flensgk.se/event/damtoren-malaren/
END:VEVENT
BEGIN:VEVENT
DTSTART;VALUE=DATE:20260530
DTEND;VALUE=DATE:20260531
DTSTAMP:20260420T202523
CREATED:20260418T064953Z
LAST-MODIFIED:20260418T064953Z
UID:27157-1780099200-1780185599@flensgk.se
SUMMARY:Mia jobbar
DESCRIPTION:
URL:https://flensgk.se/event/mia-jobbar-19/
END:VEVENT
BEGIN:VEVENT
DTSTART;TZID=Europe/Stockholm:20260530T061000
DTEND;TZID=Europe/Stockholm:20260530T070000
DTSTAMP:20260420T202523
CREATED:20260409T103707Z
LAST-MODIFIED:20260409T103707Z
UID:26966-1780121400-1780124400@flensgk.se
SUMMARY:Morronpeggarna
DESCRIPTION:
URL:https://flensgk.se/event/morronpeggarna-4/
END:VEVENT
BEGIN:VEVENT
DTSTART;TZID=Europe/Stockholm:20260530T071000
DTEND;TZID=Europe/Stockholm:20260530T075000
DTSTAMP:20260420T202523
CREATED:20260409T103910Z
LAST-MODIFIED:20260409T103910Z
UID:26968-1780125000-1780127400@flensgk.se
SUMMARY:Morronpinglor
DESCRIPTION:
URL:https://flensgk.se/event/morronpinglor/
END:VEVENT
BEGIN:VEVENT
DTSTART;TZID=Europe/Stockholm:20260530T080000
DTEND;TZID=Europe/Stockholm:20260530T085000
DTSTAMP:20260420T202523
CREATED:20260409T104014Z
LAST-MODIFIED:20260409T104014Z
UID:26970-1780128000-1780131000@flensgk.se
SUMMARY:Malmköpingstouren
DESCRIPTION:
URL:https://flensgk.se/event/malmkopingstouren-3/
END:VEVENT
BEGIN:VEVENT
DTSTART;TZID=Europe/Stockholm:20260530T090000
DTEND;TZID=Europe/Stockholm:20260530T095000
DTSTAMP:20260420T202523
CREATED:20260409T104127Z
LAST-MODIFIED:20260409T104127Z
UID:26972-1780131600-1780134600@flensgk.se
SUMMARY:Lördagstouren
DESCRIPTION:
URL:https://flensgk.se/event/lordagstouren-3/
END:VEVENT
BEGIN:VEVENT
DTSTART;TZID=Europe/Stockholm:20260530T120000
DTEND;TZID=Europe/Stockholm:20260530T150000
DTSTAMP:20260420T202523
CREATED:20260223T124447Z
LAST-MODIFIED:20260325T132649Z
UID:26302-1780142400-1780153200@flensgk.se
SUMMARY:Grönt kort\, Nybörjar kurs nr 2\, 23/5 & 30/5
DESCRIPTION:Vad ingår i Grönt Kort\, Nybörjarkurs\n\n2*3h (sving\, pitch\, chip. putt och bunker).\nTeorimaterial online.\nLån av utrustning vid behov.\nFria träningsbollar på rangen under kursen.\nVi erbjuder faddergolf för träning och uppspel på banan.\nGrönt kort erhålles efter genomfört program.\n\nAnmäl till info@flensgk.se eller ring 0157-15770 \nPris för kurs\, från 22 år: 1750 kr \nBarn och ungdomar under 22 år erbjuds kursen gratis om de sedan blir medlemmar. \nMedlemskap samma år som kursen: \n1750 kr från 18 år \n700 kr upp till 17 år \nI Medlemskap på Flens GK under säsongen 2026 ingår Golf-ID & försäkring under spel
URL:https://flensgk.se/event/gront-kort-nyborjar-kurs-nr-2-23-5-30-5-2/
LOCATION:Norrtorps golfbana
ORGANIZER;CN="Flens golfklubb":MAILTO:info@flensgk.se
END:VEVENT
BEGIN:VEVENT
DTSTART;VALUE=DATE:20260531
DTEND;VALUE=DATE:20260601
DTSTAMP:20260420T202523
CREATED:20260408T160959Z
LAST-MODIFIED:20260408T160959Z
UID:26869-1780185600-1780271999@flensgk.se
SUMMARY:KM Greensome match
DESCRIPTION:Sista anmälningsdag! \nSpelform Slagspel \nSpelsätt Greensome \nAnmälningsavgift 200.00 kr
URL:https://flensgk.se/event/km-greensome-match/
END:VEVENT
BEGIN:VEVENT
DTSTART;VALUE=DATE:20260531
DTEND;VALUE=DATE:20260601
DTSTAMP:20260420T202523
CREATED:20260408T161108Z
LAST-MODIFIED:20260408T161108Z
UID:26871-1780185600-1780271999@flensgk.se
SUMMARY:Handelsbanken cup
DESCRIPTION:Sista dag för anmälan!
URL:https://flensgk.se/event/handelsbanken-cup/
END:VEVENT
END:VCALENDAR