BEGIN:VCALENDAR
VERSION:2.0
PRODID:-//Flens Golfklubb - ECPv6.15.20//NONSGML v1.0//EN
CALSCALE:GREGORIAN
METHOD:PUBLISH
X-ORIGINAL-URL:https://flensgk.se
X-WR-CALDESC:Händelser för Flens Golfklubb
REFRESH-INTERVAL;VALUE=DURATION:PT1H
X-Robots-Tag:noindex
X-PUBLISHED-TTL:PT1H
BEGIN:VTIMEZONE
TZID:Europe/Stockholm
BEGIN:DAYLIGHT
TZOFFSETFROM:+0100
TZOFFSETTO:+0200
TZNAME:CEST
DTSTART:20250330T010000
END:DAYLIGHT
BEGIN:STANDARD
TZOFFSETFROM:+0200
TZOFFSETTO:+0100
TZNAME:CET
DTSTART:20251026T010000
END:STANDARD
BEGIN:DAYLIGHT
TZOFFSETFROM:+0100
TZOFFSETTO:+0200
TZNAME:CEST
DTSTART:20260329T010000
END:DAYLIGHT
BEGIN:STANDARD
TZOFFSETFROM:+0200
TZOFFSETTO:+0100
TZNAME:CET
DTSTART:20261025T010000
END:STANDARD
BEGIN:DAYLIGHT
TZOFFSETFROM:+0100
TZOFFSETTO:+0200
TZNAME:CEST
DTSTART:20270328T010000
END:DAYLIGHT
BEGIN:STANDARD
TZOFFSETFROM:+0200
TZOFFSETTO:+0100
TZNAME:CET
DTSTART:20271031T010000
END:STANDARD
END:VTIMEZONE
BEGIN:VEVENT
DTSTART;VALUE=DATE:20260501
DTEND;VALUE=DATE:20260502
DTSTAMP:20260420T153614
CREATED:20260402T104813Z
LAST-MODIFIED:20260402T104813Z
UID:26689-1777593600-1777679999@flensgk.se
SUMMARY:Åsa jobbar
DESCRIPTION:
URL:https://flensgk.se/event/asa-jobbar-22/
END:VEVENT
BEGIN:VEVENT
DTSTART;TZID=Europe/Stockholm:20260501T113000
DTEND;TZID=Europe/Stockholm:20260501T121000
DTSTAMP:20260420T153614
CREATED:20260409T083110Z
LAST-MODIFIED:20260409T083110Z
UID:26936-1777635000-1777637400@flensgk.se
SUMMARY:Morronpinglorna
DESCRIPTION:
URL:https://flensgk.se/event/morronpinglorna/
END:VEVENT
BEGIN:VEVENT
DTSTART;TZID=Europe/Stockholm:20260501T123000
DTEND;TZID=Europe/Stockholm:20260501T132000
DTSTAMP:20260420T153614
CREATED:20260409T083245Z
LAST-MODIFIED:20260409T083245Z
UID:26938-1777638600-1777641600@flensgk.se
SUMMARY:Morronpeggarna
DESCRIPTION:
URL:https://flensgk.se/event/morronpeggarna/
END:VEVENT
BEGIN:VEVENT
DTSTART;VALUE=DATE:20260502
DTEND;VALUE=DATE:20260503
DTSTAMP:20260420T153614
CREATED:20260402T103022Z
LAST-MODIFIED:20260402T103022Z
UID:26650-1777680000-1777766399@flensgk.se
SUMMARY:Mia jobbar
DESCRIPTION:
URL:https://flensgk.se/event/mia-jobbar-9/
END:VEVENT
BEGIN:VEVENT
DTSTART;TZID=Europe/Stockholm:20260502T090000
DTEND;TZID=Europe/Stockholm:20260502T100000
DTSTAMP:20260420T153614
CREATED:20260409T083900Z
LAST-MODIFIED:20260409T083900Z
UID:26944-1777712400-1777716000@flensgk.se
SUMMARY:Lördagstouren
DESCRIPTION:
URL:https://flensgk.se/event/lordagstouren/
END:VEVENT
BEGIN:VEVENT
DTSTART;TZID=Europe/Stockholm:20260502T120000
DTEND;TZID=Europe/Stockholm:20260502T150000
DTSTAMP:20260420T153614
CREATED:20260223T123455Z
LAST-MODIFIED:20260325T132325Z
UID:26296-1777723200-1777734000@flensgk.se
SUMMARY:Grönt kort\, Nybörjar kurs nr 1 2/5 & 9/5
DESCRIPTION:Vad ingår i Grönt Kort\, Nybörjarkurs\n\n2*3h (sving\, pitch\, chip. putt och bunker).\nTeorimaterial online.\nLån av utrustning vid behov.\nFria träningsbollar på rangen under kursen.\nVi erbjuder faddergolf för träning och uppspel på banan.\nGrönt kort erhålles efter genomfört program.\n\nAnmäl till info@flensgk.se eller ring 0157-15770 \nPris för kurs\, från 22 år: 1750 kr \nBarn och ungdomar under 22 år erbjuds kursen gratis om de sedan blir medlemmar. \nMedlemskap samma år som kursen: \n1750 kr från 18 år \n700 kr upp till 17 år \nI Medlemskap på Flens GK under säsongen 2026 ingår Golf-ID & försäkring under spel
URL:https://flensgk.se/event/gront-kort-nyborjar-kurs-nr-1-2-5-9-5/
LOCATION:Norrtorps golfbana
ORGANIZER;CN="Flens golfklubb":MAILTO:info@flensgk.se
END:VEVENT
BEGIN:VEVENT
DTSTART;VALUE=DATE:20260503
DTEND;VALUE=DATE:20260504
DTSTAMP:20260420T153614
CREATED:20260402T103101Z
LAST-MODIFIED:20260407T054942Z
UID:26652-1777766400-1777852799@flensgk.se
SUMMARY:Mia jobbar
DESCRIPTION:
URL:https://flensgk.se/event/mia-jobbar-10/
END:VEVENT
BEGIN:VEVENT
DTSTART;TZID=Europe/Stockholm:20260503T123000
DTEND;TZID=Europe/Stockholm:20260503T130000
DTSTAMP:20260420T153614
CREATED:20260409T084511Z
LAST-MODIFIED:20260409T084511Z
UID:26946-1777811400-1777813200@flensgk.se
SUMMARY:Söndags Gänget
DESCRIPTION:
URL:https://flensgk.se/event/sondags-ganget-2/
END:VEVENT
BEGIN:VEVENT
DTSTART;VALUE=DATE:20260504
DTEND;VALUE=DATE:20260505
DTSTAMP:20260420T153614
CREATED:20260418T060536Z
LAST-MODIFIED:20260418T060627Z
UID:27107-1777852800-1777939199@flensgk.se
SUMMARY:Åsa jobbar
DESCRIPTION:
URL:https://flensgk.se/event/asa-jobbar/
END:VEVENT
BEGIN:VEVENT
DTSTART;TZID=Europe/Stockholm:20260504T100000
DTEND;TZID=Europe/Stockholm:20260504T103000
DTSTAMP:20260420T153614
CREATED:20260404T123255Z
LAST-MODIFIED:20260404T123255Z
UID:26738-1777888800-1777890600@flensgk.se
SUMMARY:Damernas trivselgolf
DESCRIPTION:
URL:https://flensgk.se/event/damernas-trivselgolf-3/
END:VEVENT
BEGIN:VEVENT
DTSTART;VALUE=DATE:20260505
DTEND;VALUE=DATE:20260506
DTSTAMP:20260420T153614
CREATED:20260418T060828Z
LAST-MODIFIED:20260418T060828Z
UID:27109-1777939200-1778025599@flensgk.se
SUMMARY:Åsa jobbar
DESCRIPTION:
URL:https://flensgk.se/event/asa-jobbar-2/
END:VEVENT
BEGIN:VEVENT
DTSTART;VALUE=DATE:20260506
DTEND;VALUE=DATE:20260507
DTSTAMP:20260420T153614
CREATED:20260418T060908Z
LAST-MODIFIED:20260418T060908Z
UID:27111-1778025600-1778111999@flensgk.se
SUMMARY:Mia jobbar
DESCRIPTION:
URL:https://flensgk.se/event/mia-jobbar/
END:VEVENT
BEGIN:VEVENT
DTSTART;TZID=Europe/Stockholm:20260506T073000
DTEND;TZID=Europe/Stockholm:20260506T110000
DTSTAMP:20260420T153614
CREATED:20260404T125134Z
LAST-MODIFIED:20260404T125134Z
UID:26786-1778052600-1778065200@flensgk.se
SUMMARY:Seniorgolf
DESCRIPTION:
URL:https://flensgk.se/event/seniorgolf-2/
END:VEVENT
BEGIN:VEVENT
DTSTART;VALUE=DATE:20260507
DTEND;VALUE=DATE:20260508
DTSTAMP:20260420T153614
CREATED:20260418T060954Z
LAST-MODIFIED:20260418T060954Z
UID:27113-1778112000-1778198399@flensgk.se
SUMMARY:Mia jobbar
DESCRIPTION:
URL:https://flensgk.se/event/mia-jobbar-2/
END:VEVENT
BEGIN:VEVENT
DTSTART;TZID=Europe/Stockholm:20260507T163000
DTEND;TZID=Europe/Stockholm:20260507T164000
DTSTAMP:20260420T153614
CREATED:20260415T095934Z
LAST-MODIFIED:20260415T102055Z
UID:27090-1778171400-1778172000@flensgk.se
SUMMARY:Seriespel Herr mot Eskilstuna
DESCRIPTION:  \n 
URL:https://flensgk.se/event/seriespel-herr-mot-eskilstuna/
END:VEVENT
BEGIN:VEVENT
DTSTART;VALUE=DATE:20260508
DTEND;VALUE=DATE:20260509
DTSTAMP:20260420T153614
CREATED:20260418T061448Z
LAST-MODIFIED:20260418T061448Z
UID:27115-1778198400-1778284799@flensgk.se
SUMMARY:Mia jobbar
DESCRIPTION:
URL:https://flensgk.se/event/mia-jobbar-3/
END:VEVENT
BEGIN:VEVENT
DTSTART;TZID=Europe/Stockholm:20260508T130000
DTEND;TZID=Europe/Stockholm:20260508T143000
DTSTAMP:20260420T153614
CREATED:20260409T084720Z
LAST-MODIFIED:20260409T084720Z
UID:26948-1778245200-1778250600@flensgk.se
SUMMARY:Parett
DESCRIPTION:
URL:https://flensgk.se/event/parett/
END:VEVENT
BEGIN:VEVENT
DTSTART;VALUE=DATE:20260509
DTEND;VALUE=DATE:20260510
DTSTAMP:20260420T153614
CREATED:20260418T061532Z
LAST-MODIFIED:20260418T061532Z
UID:27117-1778284800-1778371199@flensgk.se
SUMMARY:Åsa jobbar
DESCRIPTION:
URL:https://flensgk.se/event/asa-jobbar-3/
END:VEVENT
BEGIN:VEVENT
DTSTART;TZID=Europe/Stockholm:20260509T120000
DTEND;TZID=Europe/Stockholm:20260509T150000
DTSTAMP:20260420T153614
CREATED:20260223T123912Z
LAST-MODIFIED:20260325T132445Z
UID:26298-1778328000-1778338800@flensgk.se
SUMMARY:Grönt kort\, Nybörjar kurs nr 1 2/5 & 9/5
DESCRIPTION:Vad ingår i Grönt Kort\, Nybörjarkurs\n\n2*3h (sving\, pitch\, chip. putt och bunker).\nTeorimaterial online.\nLån av utrustning vid behov.\nFria träningsbollar på rangen under kursen.\nVi erbjuder faddergolf för träning och uppspel på banan.\nGrönt kort erhålles efter genomfört program.\n\nAnmäl till info@flensgk.se eller ring 0157-15770 \nPris för kurs\, från 22 år: 1750 kr \nBarn och ungdomar under 22 år erbjuds kursen gratis om de sedan blir medlemmar. \nMedlemskap samma år som kursen: \n1750 kr från 18 år \n700 kr upp till 17 år \nI Medlemskap på Flens GK under säsongen 2026 ingår Golf-ID & försäkring under spel
URL:https://flensgk.se/event/gront-kort-nyborjar-kurs-nr-1-2-5-9-5-2/
LOCATION:Norrtorps golfbana
ORGANIZER;CN="Flens golfklubb":MAILTO:info@flensgk.se
END:VEVENT
BEGIN:VEVENT
DTSTART;VALUE=DATE:20260510
DTEND;VALUE=DATE:20260511
DTSTAMP:20260420T153614
CREATED:20260418T061707Z
LAST-MODIFIED:20260418T061707Z
UID:27119-1778371200-1778457599@flensgk.se
SUMMARY:Åsa jobbar
DESCRIPTION:
URL:https://flensgk.se/event/asa-jobbar-4/
END:VEVENT
BEGIN:VEVENT
DTSTART;TZID=Europe/Stockholm:20260510T123000
DTEND;TZID=Europe/Stockholm:20260510T130000
DTSTAMP:20260420T153614
CREATED:20260409T084821Z
LAST-MODIFIED:20260409T084821Z
UID:26950-1778416200-1778418000@flensgk.se
SUMMARY:Söndags Gänget
DESCRIPTION:
URL:https://flensgk.se/event/sondags-ganget-3/
END:VEVENT
BEGIN:VEVENT
DTSTART;VALUE=DATE:20260511
DTEND;VALUE=DATE:20260512
DTSTAMP:20260420T153614
CREATED:20260418T061750Z
LAST-MODIFIED:20260418T061750Z
UID:27121-1778457600-1778543999@flensgk.se
SUMMARY:Mia jobbar
DESCRIPTION:
URL:https://flensgk.se/event/mia-jobbar-4/
END:VEVENT
BEGIN:VEVENT
DTSTART;TZID=Europe/Stockholm:20260511T100000
DTEND;TZID=Europe/Stockholm:20260511T103000
DTSTAMP:20260420T153614
CREATED:20260404T123339Z
LAST-MODIFIED:20260404T123339Z
UID:26740-1778493600-1778495400@flensgk.se
SUMMARY:Damernas trivselgolf
DESCRIPTION:
URL:https://flensgk.se/event/damernas-trivselgolf-4/
END:VEVENT
BEGIN:VEVENT
DTSTART;VALUE=DATE:20260512
DTEND;VALUE=DATE:20260513
DTSTAMP:20260420T153614
CREATED:20260418T061835Z
LAST-MODIFIED:20260418T061835Z
UID:27123-1778544000-1778630399@flensgk.se
SUMMARY:Mia jobbar
DESCRIPTION:
URL:https://flensgk.se/event/mia-jobbar-5/
END:VEVENT
BEGIN:VEVENT
DTSTART;TZID=Europe/Stockholm:20260512T100000
DTEND;TZID=Europe/Stockholm:20260512T101000
DTSTAMP:20260420T153614
CREATED:20260404T094708Z
LAST-MODIFIED:20260404T094708Z
UID:26710-1778580000-1778580600@flensgk.se
SUMMARY:Mellansvenska Veteranserien H75 mot Mälarbaden
DESCRIPTION:
URL:https://flensgk.se/event/mellansvenska-veteranserien-h75-mot-malarbaden/
END:VEVENT
BEGIN:VEVENT
DTSTART;TZID=Europe/Stockholm:20260512T102000
DTEND;TZID=Europe/Stockholm:20260512T104000
DTSTAMP:20260420T153614
CREATED:20260415T092506Z
LAST-MODIFIED:20260415T122307Z
UID:27068-1778581200-1778582400@flensgk.se
SUMMARY:Seriespel H70 mot Vingåker
DESCRIPTION:
URL:https://flensgk.se/event/seriespel-h70-mot-vingaker/
END:VEVENT
BEGIN:VEVENT
DTSTART;VALUE=DATE:20260513
DTEND;VALUE=DATE:20260514
DTSTAMP:20260420T153614
CREATED:20260418T061907Z
LAST-MODIFIED:20260418T061907Z
UID:27125-1778630400-1778716799@flensgk.se
SUMMARY:Mia jobbar
DESCRIPTION:
URL:https://flensgk.se/event/mia-jobbar-11/
END:VEVENT
BEGIN:VEVENT
DTSTART;TZID=Europe/Stockholm:20260513T073000
DTEND;TZID=Europe/Stockholm:20260513T110000
DTSTAMP:20260420T153614
CREATED:20260404T125214Z
LAST-MODIFIED:20260404T125214Z
UID:26788-1778657400-1778670000@flensgk.se
SUMMARY:Seniorgolf
DESCRIPTION:
URL:https://flensgk.se/event/seniorgolf-3/
END:VEVENT
BEGIN:VEVENT
DTSTART;VALUE=DATE:20260514
DTEND;VALUE=DATE:20260515
DTSTAMP:20260420T153614
CREATED:20260418T061945Z
LAST-MODIFIED:20260418T061945Z
UID:27127-1778716800-1778803199@flensgk.se
SUMMARY:Åsa jobbar
DESCRIPTION:
URL:https://flensgk.se/event/asa-jobbar-5/
END:VEVENT
BEGIN:VEVENT
DTSTART;VALUE=DATE:20260515
DTEND;VALUE=DATE:20260516
DTSTAMP:20260420T153614
CREATED:20260418T062026Z
LAST-MODIFIED:20260418T062026Z
UID:27129-1778803200-1778889599@flensgk.se
SUMMARY:Åsa jobbar
DESCRIPTION:
URL:https://flensgk.se/event/asa-jobbar-6/
END:VEVENT
END:VCALENDAR