BEGIN:VCALENDAR
VERSION:2.0
PRODID:-//Flens Golfklubb - ECPv6.15.20//NONSGML v1.0//EN
CALSCALE:GREGORIAN
METHOD:PUBLISH
X-ORIGINAL-URL:https://flensgk.se
X-WR-CALDESC:Händelser för Flens Golfklubb
REFRESH-INTERVAL;VALUE=DURATION:PT1H
X-Robots-Tag:noindex
X-PUBLISHED-TTL:PT1H
BEGIN:VTIMEZONE
TZID:Europe/Stockholm
BEGIN:DAYLIGHT
TZOFFSETFROM:+0100
TZOFFSETTO:+0200
TZNAME:CEST
DTSTART:20250330T010000
END:DAYLIGHT
BEGIN:STANDARD
TZOFFSETFROM:+0200
TZOFFSETTO:+0100
TZNAME:CET
DTSTART:20251026T010000
END:STANDARD
BEGIN:DAYLIGHT
TZOFFSETFROM:+0100
TZOFFSETTO:+0200
TZNAME:CEST
DTSTART:20260329T010000
END:DAYLIGHT
BEGIN:STANDARD
TZOFFSETFROM:+0200
TZOFFSETTO:+0100
TZNAME:CET
DTSTART:20261025T010000
END:STANDARD
BEGIN:DAYLIGHT
TZOFFSETFROM:+0100
TZOFFSETTO:+0200
TZNAME:CEST
DTSTART:20270328T010000
END:DAYLIGHT
BEGIN:STANDARD
TZOFFSETFROM:+0200
TZOFFSETTO:+0100
TZNAME:CET
DTSTART:20271031T010000
END:STANDARD
END:VTIMEZONE
BEGIN:VEVENT
DTSTART;VALUE=DATE:20260419
DTEND;VALUE=DATE:20260420
DTSTAMP:20260420T152746
CREATED:20260402T103647Z
LAST-MODIFIED:20260402T103647Z
UID:26667-1776556800-1776643199@flensgk.se
SUMMARY:Åsa jobbar
DESCRIPTION:
URL:https://flensgk.se/event/asa-jobbar-11/
END:VEVENT
BEGIN:VEVENT
DTSTART;TZID=Europe/Stockholm:20260419T123000
DTEND;TZID=Europe/Stockholm:20260419T130000
DTSTAMP:20260420T152746
CREATED:20260409T082037Z
LAST-MODIFIED:20260409T082037Z
UID:26930-1776601800-1776603600@flensgk.se
SUMMARY:Söndagsgänget
DESCRIPTION:
URL:https://flensgk.se/event/sondagsganget-2/
END:VEVENT
BEGIN:VEVENT
DTSTART;VALUE=DATE:20260420
DTEND;VALUE=DATE:20260421
DTSTAMP:20260420T152746
CREATED:20260402T103805Z
LAST-MODIFIED:20260402T103805Z
UID:26669-1776643200-1776729599@flensgk.se
SUMMARY:Åsa jobbar
DESCRIPTION:
URL:https://flensgk.se/event/asa-jobbar-12/
END:VEVENT
BEGIN:VEVENT
DTSTART;TZID=Europe/Stockholm:20260420T100000
DTEND;TZID=Europe/Stockholm:20260420T103000
DTSTAMP:20260420T152746
CREATED:20260404T122901Z
LAST-MODIFIED:20260404T122901Z
UID:26732-1776679200-1776681000@flensgk.se
SUMMARY:Damernas trivselgolf
DESCRIPTION:
URL:https://flensgk.se/event/damernas-trivselgolf/
END:VEVENT
BEGIN:VEVENT
DTSTART;VALUE=DATE:20260421
DTEND;VALUE=DATE:20260422
DTSTAMP:20260420T152746
CREATED:20260402T103940Z
LAST-MODIFIED:20260402T103940Z
UID:26673-1776729600-1776815999@flensgk.se
SUMMARY:Åsa jobbar
DESCRIPTION:
URL:https://flensgk.se/event/asa-jobbar-14/
END:VEVENT
BEGIN:VEVENT
DTSTART;TZID=Europe/Stockholm:20260421T083000
DTEND;TZID=Europe/Stockholm:20260421T120000
DTSTAMP:20260420T152746
CREATED:20260404T123042Z
LAST-MODIFIED:20260407T111144Z
UID:26734-1776760200-1776772800@flensgk.se
SUMMARY:Vår/höst touren
DESCRIPTION:  \n  \nFlensGK inbjuder till tävling inom SöGDF \n  \n Vår/Hösttouren  \n  \nTisdagen 21 April 2026 \n  \n  \nTävlingsform:                     Slaggolf i 2 klasser enligt tävlingsbestämmelser för Hösttouren 2026­ \n  \nFörsta start:                         Från klockan 08.30 från hål 1. \n  \nAnmälningsavgift:              200 kr \n  \nAnmälan:                            Öppnar 1 april via golf.se fram till klockan 12:00 den 19 april. Senast                                                                                    klockan 20:00 publiceras startlistan på golf.se. I anmälan anger du om du ska                                                 spela i annan klass än den du blir anmäld till. \n  \nFörtäring:                            Från 08:00 finns kaffe & smörgås att handla i Receptionen. Kiosk finns efter                                                    hål 9 \n  \nTävlingsledare.                   Kansli Flens GK \nFrågor kan ställas till vårt kansli på 0157-15770 \nmail\, info@flensgolfklubb.se
URL:https://flensgk.se/event/var-host-tour-2/
END:VEVENT
BEGIN:VEVENT
DTSTART;VALUE=DATE:20260422
DTEND;VALUE=DATE:20260423
DTSTAMP:20260420T152746
CREATED:20260402T104040Z
LAST-MODIFIED:20260402T104040Z
UID:26675-1776816000-1776902399@flensgk.se
SUMMARY:Åsa jobbar
DESCRIPTION:
URL:https://flensgk.se/event/asa-jobbar-15/
END:VEVENT
BEGIN:VEVENT
DTSTART;TZID=Europe/Stockholm:20260422T073000
DTEND;TZID=Europe/Stockholm:20260422T110000
DTSTAMP:20260420T152746
CREATED:20260402T110153Z
LAST-MODIFIED:20260402T110153Z
UID:26692-1776843000-1776855600@flensgk.se
SUMMARY:1:a Seniorgolfen
DESCRIPTION:
URL:https://flensgk.se/event/1a-seniorgolfen/
END:VEVENT
BEGIN:VEVENT
DTSTART;VALUE=DATE:20260423
DTEND;VALUE=DATE:20260424
DTSTAMP:20260420T152747
CREATED:20260402T104224Z
LAST-MODIFIED:20260402T104224Z
UID:26677-1776902400-1776988799@flensgk.se
SUMMARY:Åsa jobbar
DESCRIPTION:
URL:https://flensgk.se/event/asa-jobbar-16/
END:VEVENT
BEGIN:VEVENT
DTSTART;VALUE=DATE:20260424
DTEND;VALUE=DATE:20260425
DTSTAMP:20260420T152747
CREATED:20260402T104310Z
LAST-MODIFIED:20260402T104310Z
UID:26679-1776988800-1777075199@flensgk.se
SUMMARY:Åsa jobbar
DESCRIPTION:
URL:https://flensgk.se/event/asa-jobbar-17/
END:VEVENT
BEGIN:VEVENT
DTSTART;VALUE=DATE:20260425
DTEND;VALUE=DATE:20260426
DTSTAMP:20260420T152747
CREATED:20260402T104352Z
LAST-MODIFIED:20260402T104352Z
UID:26681-1777075200-1777161599@flensgk.se
SUMMARY:Åsa jobbar
DESCRIPTION:
URL:https://flensgk.se/event/asa-jobbar-18/
END:VEVENT
BEGIN:VEVENT
DTSTART;TZID=Europe/Stockholm:20260425T080000
DTEND;TZID=Europe/Stockholm:20260425T090000
DTSTAMP:20260420T152747
CREATED:20260409T082720Z
LAST-MODIFIED:20260409T082720Z
UID:26932-1777104000-1777107600@flensgk.se
SUMMARY:Malmköpingstouren
DESCRIPTION:
URL:https://flensgk.se/event/malmkopingstouren/
END:VEVENT
BEGIN:VEVENT
DTSTART;VALUE=DATE:20260426
DTEND;VALUE=DATE:20260427
DTSTAMP:20260420T152747
CREATED:20260402T104429Z
LAST-MODIFIED:20260402T104429Z
UID:26683-1777161600-1777247999@flensgk.se
SUMMARY:Åsa jobbar
DESCRIPTION:
URL:https://flensgk.se/event/asa-jobbar-19/
END:VEVENT
BEGIN:VEVENT
DTSTART;TZID=Europe/Stockholm:20260426T123000
DTEND;TZID=Europe/Stockholm:20260426T130000
DTSTAMP:20260420T152747
CREATED:20260409T082821Z
LAST-MODIFIED:20260409T082821Z
UID:26934-1777206600-1777208400@flensgk.se
SUMMARY:Söndags Gänget
DESCRIPTION:
URL:https://flensgk.se/event/sondags-ganget/
END:VEVENT
BEGIN:VEVENT
DTSTART;TZID=Europe/Stockholm:20260426T123000
DTEND;TZID=Europe/Stockholm:20260426T170000
DTSTAMP:20260420T152747
CREATED:20260415T081552Z
LAST-MODIFIED:20260415T081552Z
UID:27064-1777206600-1777222800@flensgk.se
SUMMARY:Upptakt damernas seriespel
DESCRIPTION:Info\, träffa lagledare och spela träningsmatch 13\,10 \nAnmälan till Agneta Wagneryd  på SMS till 0703780926 om du vill vara med att träningsspela glöm inte golf-id.
URL:https://flensgk.se/event/upptakt-damernas-seriespel/
END:VEVENT
BEGIN:VEVENT
DTSTART;VALUE=DATE:20260427
DTEND;VALUE=DATE:20260428
DTSTAMP:20260420T152747
CREATED:20260402T102912Z
LAST-MODIFIED:20260402T102912Z
UID:26646-1777248000-1777334399@flensgk.se
SUMMARY:Mia jobbar
DESCRIPTION:
URL:https://flensgk.se/event/mia-jobbar-7/
END:VEVENT
BEGIN:VEVENT
DTSTART;TZID=Europe/Stockholm:20260427T100000
DTEND;TZID=Europe/Stockholm:20260427T103000
DTSTAMP:20260420T152747
CREATED:20260404T123206Z
LAST-MODIFIED:20260404T123206Z
UID:26736-1777284000-1777285800@flensgk.se
SUMMARY:Damernas trivselgolf
DESCRIPTION:
URL:https://flensgk.se/event/damernas-trivselgolf-2/
END:VEVENT
BEGIN:VEVENT
DTSTART;VALUE=DATE:20260428
DTEND;VALUE=DATE:20260429
DTSTAMP:20260420T152747
CREATED:20260402T102945Z
LAST-MODIFIED:20260402T102945Z
UID:26648-1777334400-1777420799@flensgk.se
SUMMARY:Mia jobbar
DESCRIPTION:
URL:https://flensgk.se/event/mia-jobbar-8/
END:VEVENT
BEGIN:VEVENT
DTSTART;VALUE=DATE:20260429
DTEND;VALUE=DATE:20260430
DTSTAMP:20260420T152747
CREATED:20260402T104532Z
LAST-MODIFIED:20260418T060336Z
UID:26685-1777420800-1777507199@flensgk.se
SUMMARY:Åsa jobbar
DESCRIPTION:
URL:https://flensgk.se/event/asa-jobbar-20/
END:VEVENT
BEGIN:VEVENT
DTSTART;TZID=Europe/Stockholm:20260429T073000
DTEND;TZID=Europe/Stockholm:20260429T110000
DTSTAMP:20260420T152747
CREATED:20260404T125052Z
LAST-MODIFIED:20260404T125052Z
UID:26784-1777447800-1777460400@flensgk.se
SUMMARY:Seniorgolf
DESCRIPTION:
URL:https://flensgk.se/event/seniorgolf/
END:VEVENT
BEGIN:VEVENT
DTSTART;VALUE=DATE:20260430
DTEND;VALUE=DATE:20260501
DTSTAMP:20260420T152747
CREATED:20260402T104625Z
LAST-MODIFIED:20260402T104625Z
UID:26687-1777507200-1777593599@flensgk.se
SUMMARY:Åsa jobbar
DESCRIPTION:
URL:https://flensgk.se/event/asa-jobbar-21/
END:VEVENT
BEGIN:VEVENT
DTSTART;VALUE=DATE:20260501
DTEND;VALUE=DATE:20260502
DTSTAMP:20260420T152747
CREATED:20260402T104813Z
LAST-MODIFIED:20260402T104813Z
UID:26689-1777593600-1777679999@flensgk.se
SUMMARY:Åsa jobbar
DESCRIPTION:
URL:https://flensgk.se/event/asa-jobbar-22/
END:VEVENT
BEGIN:VEVENT
DTSTART;TZID=Europe/Stockholm:20260501T113000
DTEND;TZID=Europe/Stockholm:20260501T121000
DTSTAMP:20260420T152747
CREATED:20260409T083110Z
LAST-MODIFIED:20260409T083110Z
UID:26936-1777635000-1777637400@flensgk.se
SUMMARY:Morronpinglorna
DESCRIPTION:
URL:https://flensgk.se/event/morronpinglorna/
END:VEVENT
BEGIN:VEVENT
DTSTART;TZID=Europe/Stockholm:20260501T123000
DTEND;TZID=Europe/Stockholm:20260501T132000
DTSTAMP:20260420T152747
CREATED:20260409T083245Z
LAST-MODIFIED:20260409T083245Z
UID:26938-1777638600-1777641600@flensgk.se
SUMMARY:Morronpeggarna
DESCRIPTION:
URL:https://flensgk.se/event/morronpeggarna/
END:VEVENT
BEGIN:VEVENT
DTSTART;VALUE=DATE:20260502
DTEND;VALUE=DATE:20260503
DTSTAMP:20260420T152747
CREATED:20260402T103022Z
LAST-MODIFIED:20260402T103022Z
UID:26650-1777680000-1777766399@flensgk.se
SUMMARY:Mia jobbar
DESCRIPTION:
URL:https://flensgk.se/event/mia-jobbar-9/
END:VEVENT
BEGIN:VEVENT
DTSTART;TZID=Europe/Stockholm:20260502T090000
DTEND;TZID=Europe/Stockholm:20260502T100000
DTSTAMP:20260420T152747
CREATED:20260409T083900Z
LAST-MODIFIED:20260409T083900Z
UID:26944-1777712400-1777716000@flensgk.se
SUMMARY:Lördagstouren
DESCRIPTION:
URL:https://flensgk.se/event/lordagstouren/
END:VEVENT
BEGIN:VEVENT
DTSTART;TZID=Europe/Stockholm:20260502T120000
DTEND;TZID=Europe/Stockholm:20260502T150000
DTSTAMP:20260420T152747
CREATED:20260223T123455Z
LAST-MODIFIED:20260325T132325Z
UID:26296-1777723200-1777734000@flensgk.se
SUMMARY:Grönt kort\, Nybörjar kurs nr 1 2/5 & 9/5
DESCRIPTION:Vad ingår i Grönt Kort\, Nybörjarkurs\n\n2*3h (sving\, pitch\, chip. putt och bunker).\nTeorimaterial online.\nLån av utrustning vid behov.\nFria träningsbollar på rangen under kursen.\nVi erbjuder faddergolf för träning och uppspel på banan.\nGrönt kort erhålles efter genomfört program.\n\nAnmäl till info@flensgk.se eller ring 0157-15770 \nPris för kurs\, från 22 år: 1750 kr \nBarn och ungdomar under 22 år erbjuds kursen gratis om de sedan blir medlemmar. \nMedlemskap samma år som kursen: \n1750 kr från 18 år \n700 kr upp till 17 år \nI Medlemskap på Flens GK under säsongen 2026 ingår Golf-ID & försäkring under spel
URL:https://flensgk.se/event/gront-kort-nyborjar-kurs-nr-1-2-5-9-5/
LOCATION:Norrtorps golfbana
ORGANIZER;CN="Flens golfklubb":MAILTO:info@flensgk.se
END:VEVENT
BEGIN:VEVENT
DTSTART;VALUE=DATE:20260503
DTEND;VALUE=DATE:20260504
DTSTAMP:20260420T152747
CREATED:20260402T103101Z
LAST-MODIFIED:20260407T054942Z
UID:26652-1777766400-1777852799@flensgk.se
SUMMARY:Mia jobbar
DESCRIPTION:
URL:https://flensgk.se/event/mia-jobbar-10/
END:VEVENT
BEGIN:VEVENT
DTSTART;TZID=Europe/Stockholm:20260503T123000
DTEND;TZID=Europe/Stockholm:20260503T130000
DTSTAMP:20260420T152747
CREATED:20260409T084511Z
LAST-MODIFIED:20260409T084511Z
UID:26946-1777811400-1777813200@flensgk.se
SUMMARY:Söndags Gänget
DESCRIPTION:
URL:https://flensgk.se/event/sondags-ganget-2/
END:VEVENT
BEGIN:VEVENT
DTSTART;VALUE=DATE:20260504
DTEND;VALUE=DATE:20260505
DTSTAMP:20260420T152747
CREATED:20260418T060536Z
LAST-MODIFIED:20260418T060627Z
UID:27107-1777852800-1777939199@flensgk.se
SUMMARY:Åsa jobbar
DESCRIPTION:
URL:https://flensgk.se/event/asa-jobbar/
END:VEVENT
END:VCALENDAR