BEGIN:VCALENDAR
VERSION:2.0
PRODID:-//Flens Golfklubb - ECPv6.15.20//NONSGML v1.0//EN
CALSCALE:GREGORIAN
METHOD:PUBLISH
X-WR-CALNAME:Flens Golfklubb
X-ORIGINAL-URL:https://flensgk.se
X-WR-CALDESC:Händelser för Flens Golfklubb
REFRESH-INTERVAL;VALUE=DURATION:PT1H
X-Robots-Tag:noindex
X-PUBLISHED-TTL:PT1H
BEGIN:VTIMEZONE
TZID:Europe/Stockholm
BEGIN:DAYLIGHT
TZOFFSETFROM:+0100
TZOFFSETTO:+0200
TZNAME:CEST
DTSTART:20250330T010000
END:DAYLIGHT
BEGIN:STANDARD
TZOFFSETFROM:+0200
TZOFFSETTO:+0100
TZNAME:CET
DTSTART:20251026T010000
END:STANDARD
BEGIN:DAYLIGHT
TZOFFSETFROM:+0100
TZOFFSETTO:+0200
TZNAME:CEST
DTSTART:20260329T010000
END:DAYLIGHT
BEGIN:STANDARD
TZOFFSETFROM:+0200
TZOFFSETTO:+0100
TZNAME:CET
DTSTART:20261025T010000
END:STANDARD
BEGIN:DAYLIGHT
TZOFFSETFROM:+0100
TZOFFSETTO:+0200
TZNAME:CEST
DTSTART:20270328T010000
END:DAYLIGHT
BEGIN:STANDARD
TZOFFSETFROM:+0200
TZOFFSETTO:+0100
TZNAME:CET
DTSTART:20271031T010000
END:STANDARD
END:VTIMEZONE
BEGIN:VEVENT
DTSTART;TZID=Europe/Stockholm:20260730T100000
DTEND;TZID=Europe/Stockholm:20260730T102000
DTSTAMP:20260420T202017
CREATED:20260415T093141Z
LAST-MODIFIED:20260415T093141Z
UID:27074-1785405600-1785406800@flensgk.se
SUMMARY:Seriespel H70 mot Trosa 1
DESCRIPTION:
URL:https://flensgk.se/event/seriespel-h70-mot-trosa-1/
END:VEVENT
BEGIN:VEVENT
DTSTART;TZID=Europe/Stockholm:20260731T090000
DTEND;TZID=Europe/Stockholm:20260731T180000
DTSTAMP:20260420T202017
CREATED:20260408T170738Z
LAST-MODIFIED:20260408T170738Z
UID:26891-1785488400-1785520800@flensgk.se
SUMMARY:Orange Open
DESCRIPTION:
URL:https://flensgk.se/event/orange-open/
END:VEVENT
BEGIN:VEVENT
DTSTART;TZID=Europe/Stockholm:20260801T070000
DTEND;TZID=Europe/Stockholm:20260801T180000
DTSTAMP:20260420T202017
CREATED:20260408T171222Z
LAST-MODIFIED:20260408T171222Z
UID:26893-1785567600-1785607200@flensgk.se
SUMMARY:KM
DESCRIPTION:
URL:https://flensgk.se/event/km/
END:VEVENT
BEGIN:VEVENT
DTSTART;TZID=Europe/Stockholm:20260802T080000
DTEND;TZID=Europe/Stockholm:20260802T100000
DTSTAMP:20260420T202017
CREATED:20260408T171420Z
LAST-MODIFIED:20260408T171420Z
UID:26895-1785657600-1785664800@flensgk.se
SUMMARY:KM
DESCRIPTION:
URL:https://flensgk.se/event/km-2/
END:VEVENT
BEGIN:VEVENT
DTSTART;TZID=Europe/Stockholm:20260803T100000
DTEND;TZID=Europe/Stockholm:20260803T103000
DTSTAMP:20260420T202017
CREATED:20260404T124255Z
LAST-MODIFIED:20260404T124255Z
UID:26764-1785751200-1785753000@flensgk.se
SUMMARY:Damernas trivselgolf
DESCRIPTION:
URL:https://flensgk.se/event/damernas-trivselgolf-16/
END:VEVENT
BEGIN:VEVENT
DTSTART;TZID=Europe/Stockholm:20260804T100000
DTEND;TZID=Europe/Stockholm:20260804T101000
DTSTAMP:20260420T202017
CREATED:20260404T095652Z
LAST-MODIFIED:20260404T095652Z
UID:26722-1785837600-1785838200@flensgk.se
SUMMARY:Seriespel D60 mot Katrineholm
DESCRIPTION:
URL:https://flensgk.se/event/seriespel-d60-mot-katrineholm/
END:VEVENT
BEGIN:VEVENT
DTSTART;TZID=Europe/Stockholm:20260805T073000
DTEND;TZID=Europe/Stockholm:20260805T110000
DTSTAMP:20260420T202017
CREATED:20260404T130539Z
LAST-MODIFIED:20260404T130539Z
UID:26810-1785915000-1785927600@flensgk.se
SUMMARY:Seniorgolf
DESCRIPTION:
URL:https://flensgk.se/event/seniorgolf-10/
END:VEVENT
BEGIN:VEVENT
DTSTART;TZID=Europe/Stockholm:20260809T131000
DTEND;TZID=Europe/Stockholm:20260809T132000
DTSTAMP:20260420T202017
CREATED:20260404T093526Z
LAST-MODIFIED:20260404T093526Z
UID:26702-1786281000-1786281600@flensgk.se
SUMMARY:Seriespel Mixed mot Torshälla
DESCRIPTION:
URL:https://flensgk.se/event/seriespel-mixed-mot-torshalla/
END:VEVENT
BEGIN:VEVENT
DTSTART;TZID=Europe/Stockholm:20260810T100000
DTEND;TZID=Europe/Stockholm:20260810T103000
DTSTAMP:20260420T202017
CREATED:20260404T124339Z
LAST-MODIFIED:20260404T124339Z
UID:26766-1786356000-1786357800@flensgk.se
SUMMARY:Damernas trivselgolf
DESCRIPTION:
URL:https://flensgk.se/event/damernas-trivselgolf-17/
END:VEVENT
BEGIN:VEVENT
DTSTART;TZID=Europe/Stockholm:20260810T163000
DTEND;TZID=Europe/Stockholm:20260810T165000
DTSTAMP:20260420T202017
CREATED:20260415T095625Z
LAST-MODIFIED:20260415T095625Z
UID:27086-1786379400-1786380600@flensgk.se
SUMMARY:Seriespel H60 mot Vidbynäs
DESCRIPTION:
URL:https://flensgk.se/event/seriespel-h60-mot-vidbynas/
END:VEVENT
BEGIN:VEVENT
DTSTART;TZID=Europe/Stockholm:20260811T100000
DTEND;TZID=Europe/Stockholm:20260811T101000
DTSTAMP:20260420T202017
CREATED:20260404T095054Z
LAST-MODIFIED:20260404T095054Z
UID:26715-1786442400-1786443000@flensgk.se
SUMMARY:Mellansvenska Veteranserien H75 mot Strängnäs
DESCRIPTION:
URL:https://flensgk.se/event/mellansvenska-veteranserien-h75-mot-strangnas/
END:VEVENT
BEGIN:VEVENT
DTSTART;TZID=Europe/Stockholm:20260812T073000
DTEND;TZID=Europe/Stockholm:20260812T110000
DTSTAMP:20260420T202017
CREATED:20260404T130705Z
LAST-MODIFIED:20260404T130705Z
UID:26812-1786519800-1786532400@flensgk.se
SUMMARY:Seniorgolf
DESCRIPTION:
URL:https://flensgk.se/event/seniorgolf-11/
END:VEVENT
BEGIN:VEVENT
DTSTART;TZID=Europe/Stockholm:20260817T100000
DTEND;TZID=Europe/Stockholm:20260817T103000
DTSTAMP:20260420T202017
CREATED:20260404T124419Z
LAST-MODIFIED:20260404T124419Z
UID:26768-1786960800-1786962600@flensgk.se
SUMMARY:Damernas trivselgolf
DESCRIPTION:
URL:https://flensgk.se/event/damernas-trivselgolf-18/
END:VEVENT
BEGIN:VEVENT
DTSTART;TZID=Europe/Stockholm:20260818T100000
DTEND;TZID=Europe/Stockholm:20260818T101000
DTSTAMP:20260420T202017
CREATED:20260404T095153Z
LAST-MODIFIED:20260404T095153Z
UID:26717-1787047200-1787047800@flensgk.se
SUMMARY:Mellansvenska Veteranserien H75 mot Torshälla
DESCRIPTION:
URL:https://flensgk.se/event/mellansvenska-veteranserien-h75-mot-torshalla/
END:VEVENT
BEGIN:VEVENT
DTSTART;TZID=Europe/Stockholm:20260818T102000
DTEND;TZID=Europe/Stockholm:20260818T103000
DTSTAMP:20260420T202017
CREATED:20260404T095752Z
LAST-MODIFIED:20260404T095752Z
UID:26724-1787048400-1787049000@flensgk.se
SUMMARY:Seriespel D60 mot Viksberg
DESCRIPTION:
URL:https://flensgk.se/event/seriespel-d60-mot-viksberg/
END:VEVENT
BEGIN:VEVENT
DTSTART;TZID=Europe/Stockholm:20260819T073000
DTEND;TZID=Europe/Stockholm:20260819T110000
DTSTAMP:20260420T202017
CREATED:20260404T130749Z
LAST-MODIFIED:20260404T130749Z
UID:26814-1787124600-1787137200@flensgk.se
SUMMARY:Seniorgolf
DESCRIPTION:
URL:https://flensgk.se/event/seniorgolf-12/
END:VEVENT
BEGIN:VEVENT
DTSTART;TZID=Europe/Stockholm:20260820T100000
DTEND;TZID=Europe/Stockholm:20260820T102000
DTSTAMP:20260420T202017
CREATED:20260415T093258Z
LAST-MODIFIED:20260415T093258Z
UID:27076-1787220000-1787221200@flensgk.se
SUMMARY:Seriespel H70 mot Katrineholm 1
DESCRIPTION:
URL:https://flensgk.se/event/seriespel-h70-mot-katrineholm-1/
END:VEVENT
BEGIN:VEVENT
DTSTART;TZID=Europe/Stockholm:20260823T083000
DTEND;TZID=Europe/Stockholm:20260823T120000
DTSTAMP:20260420T202017
CREATED:20260408T171907Z
LAST-MODIFIED:20260408T171907Z
UID:26897-1787473800-1787486400@flensgk.se
SUMMARY:Toyota-kampen
DESCRIPTION:Spelform Slagspel\nÖppen för Alla\nSpelsätt Singel\nStartlista publiceras \n20 aug. 2026 18:00\n\n\n\nAnmälningsavgift \n200.00 kr\n\nTävlingsgreenfee \n300.00 kr\n\n\n\n\n\n\nVälkomna till Toyotakampen. \nAlla golfare är välkomna. Vi kommer spela en Singeltävling där priserna sponsras av Simling Bil i Katrineholm.
URL:https://flensgk.se/event/toyota-kampen/
END:VEVENT
BEGIN:VEVENT
DTSTART;TZID=Europe/Stockholm:20260823T131000
DTEND;TZID=Europe/Stockholm:20260823T132000
DTSTAMP:20260420T202017
CREATED:20260404T093725Z
LAST-MODIFIED:20260404T093725Z
UID:26704-1787490600-1787491200@flensgk.se
SUMMARY:Seriespel Mixed mot Vidbynäs
DESCRIPTION:
URL:https://flensgk.se/event/seriespel-mixed-mot-vidbynas/
END:VEVENT
BEGIN:VEVENT
DTSTART;TZID=Europe/Stockholm:20260823T140000
DTEND;TZID=Europe/Stockholm:20260823T141000
DTSTAMP:20260420T202017
CREATED:20260404T100624Z
LAST-MODIFIED:20260404T100624Z
UID:26730-1787493600-1787494200@flensgk.se
SUMMARY:Seriespel Damer mot Nyköping
DESCRIPTION:
URL:https://flensgk.se/event/seriespel-damer-mot-nykoping/
END:VEVENT
BEGIN:VEVENT
DTSTART;TZID=Europe/Stockholm:20260823T140000
DTEND;TZID=Europe/Stockholm:20260823T141000
DTSTAMP:20260420T202017
CREATED:20260415T092139Z
LAST-MODIFIED:20260415T092139Z
UID:27066-1787493600-1787494200@flensgk.se
SUMMARY:Seriespel Dam mot Nyköping
DESCRIPTION:
URL:https://flensgk.se/event/seriespel-dam-mot-nykoping/
END:VEVENT
BEGIN:VEVENT
DTSTART;TZID=Europe/Stockholm:20260824T100000
DTEND;TZID=Europe/Stockholm:20260824T103000
DTSTAMP:20260420T202017
CREATED:20260404T124503Z
LAST-MODIFIED:20260404T124503Z
UID:26770-1787565600-1787567400@flensgk.se
SUMMARY:Damernas trivselgolf
DESCRIPTION:
URL:https://flensgk.se/event/damernas-trivselgolf-19/
END:VEVENT
BEGIN:VEVENT
DTSTART;TZID=Europe/Stockholm:20260824T163000
DTEND;TZID=Europe/Stockholm:20260824T165000
DTSTAMP:20260420T202017
CREATED:20260415T095731Z
LAST-MODIFIED:20260415T095731Z
UID:27088-1787589000-1787590200@flensgk.se
SUMMARY:Seriespel H60 mot Strängnäs
DESCRIPTION:
URL:https://flensgk.se/event/seriespel-h60-mot-strangnas/
END:VEVENT
BEGIN:VEVENT
DTSTART;TZID=Europe/Stockholm:20260826T073000
DTEND;TZID=Europe/Stockholm:20260826T110000
DTSTAMP:20260420T202017
CREATED:20260404T130856Z
LAST-MODIFIED:20260404T130856Z
UID:26816-1787729400-1787742000@flensgk.se
SUMMARY:Seniorgolf röd/orange
DESCRIPTION:
URL:https://flensgk.se/event/seniorgolf-rod-orange-4/
END:VEVENT
BEGIN:VEVENT
DTSTART;TZID=Europe/Stockholm:20260827T163000
DTEND;TZID=Europe/Stockholm:20260827T164000
DTSTAMP:20260420T202017
CREATED:20260415T102506Z
LAST-MODIFIED:20260415T102506Z
UID:27098-1787848200-1787848800@flensgk.se
SUMMARY:Seriespel Herr mot Katrineholm
DESCRIPTION:
URL:https://flensgk.se/event/seriespel-herr-mot-katrineholm/
END:VEVENT
BEGIN:VEVENT
DTSTART;TZID=Europe/Stockholm:20260831T100000
DTEND;TZID=Europe/Stockholm:20260831T103000
DTSTAMP:20260420T202017
CREATED:20260404T124538Z
LAST-MODIFIED:20260404T124538Z
UID:26772-1788170400-1788172200@flensgk.se
SUMMARY:Damernas trivselgolf
DESCRIPTION:
URL:https://flensgk.se/event/damernas-trivselgolf-20/
END:VEVENT
BEGIN:VEVENT
DTSTART;TZID=Europe/Stockholm:20260902T073000
DTEND;TZID=Europe/Stockholm:20260902T110000
DTSTAMP:20260420T202017
CREATED:20260404T130939Z
LAST-MODIFIED:20260404T130939Z
UID:26818-1788334200-1788346800@flensgk.se
SUMMARY:Seniorgolf
DESCRIPTION:
URL:https://flensgk.se/event/seniorgolf-13/
END:VEVENT
BEGIN:VEVENT
DTSTART;TZID=Europe/Stockholm:20260903T100000
DTEND;TZID=Europe/Stockholm:20260903T102000
DTSTAMP:20260420T202017
CREATED:20260415T093339Z
LAST-MODIFIED:20260415T105221Z
UID:27078-1788429600-1788430800@flensgk.se
SUMMARY:Seriespel H70 mot Katrineholm 2
DESCRIPTION:
URL:https://flensgk.se/event/seriespel-h70-mot-katrineholm-2/
END:VEVENT
BEGIN:VEVENT
DTSTART;TZID=Europe/Stockholm:20260907T100000
DTEND;TZID=Europe/Stockholm:20260907T103000
DTSTAMP:20260420T202017
CREATED:20260404T124622Z
LAST-MODIFIED:20260404T124622Z
UID:26774-1788775200-1788777000@flensgk.se
SUMMARY:Damernas trivselgolf
DESCRIPTION:
URL:https://flensgk.se/event/damernas-trivselgolf-21/
END:VEVENT
BEGIN:VEVENT
DTSTART;TZID=Europe/Stockholm:20260909T073000
DTEND;TZID=Europe/Stockholm:20260909T110000
DTSTAMP:20260420T202017
CREATED:20260404T131032Z
LAST-MODIFIED:20260404T131032Z
UID:26820-1788939000-1788951600@flensgk.se
SUMMARY:Seniorgolf
DESCRIPTION:
URL:https://flensgk.se/event/seniorgolf-14/
END:VEVENT
END:VCALENDAR