BEGIN:VCALENDAR
VERSION:2.0
PRODID:-//Flens Golfklubb - ECPv6.15.20//NONSGML v1.0//EN
CALSCALE:GREGORIAN
METHOD:PUBLISH
X-ORIGINAL-URL:https://flensgk.se
X-WR-CALDESC:Händelser för Flens Golfklubb
REFRESH-INTERVAL;VALUE=DURATION:PT1H
X-Robots-Tag:noindex
X-PUBLISHED-TTL:PT1H
BEGIN:VTIMEZONE
TZID:Europe/Stockholm
BEGIN:DAYLIGHT
TZOFFSETFROM:+0100
TZOFFSETTO:+0200
TZNAME:CEST
DTSTART:20250330T010000
END:DAYLIGHT
BEGIN:STANDARD
TZOFFSETFROM:+0200
TZOFFSETTO:+0100
TZNAME:CET
DTSTART:20251026T010000
END:STANDARD
BEGIN:DAYLIGHT
TZOFFSETFROM:+0100
TZOFFSETTO:+0200
TZNAME:CEST
DTSTART:20260329T010000
END:DAYLIGHT
BEGIN:STANDARD
TZOFFSETFROM:+0200
TZOFFSETTO:+0100
TZNAME:CET
DTSTART:20261025T010000
END:STANDARD
BEGIN:DAYLIGHT
TZOFFSETFROM:+0100
TZOFFSETTO:+0200
TZNAME:CEST
DTSTART:20270328T010000
END:DAYLIGHT
BEGIN:STANDARD
TZOFFSETFROM:+0200
TZOFFSETTO:+0100
TZNAME:CET
DTSTART:20271031T010000
END:STANDARD
END:VTIMEZONE
BEGIN:VEVENT
DTSTART;TZID=Europe/Stockholm:20260823T083000
DTEND;TZID=Europe/Stockholm:20260823T120000
DTSTAMP:20260421T010915
CREATED:20260408T171907Z
LAST-MODIFIED:20260408T171907Z
UID:26897-1787473800-1787486400@flensgk.se
SUMMARY:Toyota-kampen
DESCRIPTION:Spelform Slagspel\nÖppen för Alla\nSpelsätt Singel\nStartlista publiceras \n20 aug. 2026 18:00\n\n\n\nAnmälningsavgift \n200.00 kr\n\nTävlingsgreenfee \n300.00 kr\n\n\n\n\n\n\nVälkomna till Toyotakampen. \nAlla golfare är välkomna. Vi kommer spela en Singeltävling där priserna sponsras av Simling Bil i Katrineholm.
URL:https://flensgk.se/event/toyota-kampen/
END:VEVENT
BEGIN:VEVENT
DTSTART;TZID=Europe/Stockholm:20260823T131000
DTEND;TZID=Europe/Stockholm:20260823T132000
DTSTAMP:20260421T010915
CREATED:20260404T093725Z
LAST-MODIFIED:20260404T093725Z
UID:26704-1787490600-1787491200@flensgk.se
SUMMARY:Seriespel Mixed mot Vidbynäs
DESCRIPTION:
URL:https://flensgk.se/event/seriespel-mixed-mot-vidbynas/
END:VEVENT
BEGIN:VEVENT
DTSTART;TZID=Europe/Stockholm:20260823T140000
DTEND;TZID=Europe/Stockholm:20260823T141000
DTSTAMP:20260421T010915
CREATED:20260404T100624Z
LAST-MODIFIED:20260404T100624Z
UID:26730-1787493600-1787494200@flensgk.se
SUMMARY:Seriespel Damer mot Nyköping
DESCRIPTION:
URL:https://flensgk.se/event/seriespel-damer-mot-nykoping/
END:VEVENT
BEGIN:VEVENT
DTSTART;TZID=Europe/Stockholm:20260823T140000
DTEND;TZID=Europe/Stockholm:20260823T141000
DTSTAMP:20260421T010915
CREATED:20260415T092139Z
LAST-MODIFIED:20260415T092139Z
UID:27066-1787493600-1787494200@flensgk.se
SUMMARY:Seriespel Dam mot Nyköping
DESCRIPTION:
URL:https://flensgk.se/event/seriespel-dam-mot-nykoping/
END:VEVENT
END:VCALENDAR