BEGIN:VCALENDAR
VERSION:2.0
PRODID:-//Flens Golfklubb - ECPv6.15.20//NONSGML v1.0//EN
CALSCALE:GREGORIAN
METHOD:PUBLISH
X-ORIGINAL-URL:https://flensgk.se
X-WR-CALDESC:Händelser för Flens Golfklubb
REFRESH-INTERVAL;VALUE=DURATION:PT1H
X-Robots-Tag:noindex
X-PUBLISHED-TTL:PT1H
BEGIN:VTIMEZONE
TZID:Europe/Stockholm
BEGIN:DAYLIGHT
TZOFFSETFROM:+0100
TZOFFSETTO:+0200
TZNAME:CEST
DTSTART:20250330T010000
END:DAYLIGHT
BEGIN:STANDARD
TZOFFSETFROM:+0200
TZOFFSETTO:+0100
TZNAME:CET
DTSTART:20251026T010000
END:STANDARD
BEGIN:DAYLIGHT
TZOFFSETFROM:+0100
TZOFFSETTO:+0200
TZNAME:CEST
DTSTART:20260329T010000
END:DAYLIGHT
BEGIN:STANDARD
TZOFFSETFROM:+0200
TZOFFSETTO:+0100
TZNAME:CET
DTSTART:20261025T010000
END:STANDARD
BEGIN:DAYLIGHT
TZOFFSETFROM:+0100
TZOFFSETTO:+0200
TZNAME:CEST
DTSTART:20270328T010000
END:DAYLIGHT
BEGIN:STANDARD
TZOFFSETFROM:+0200
TZOFFSETTO:+0100
TZNAME:CET
DTSTART:20271031T010000
END:STANDARD
END:VTIMEZONE
BEGIN:VEVENT
DTSTART;TZID=Europe/Stockholm:20260628T131000
DTEND;TZID=Europe/Stockholm:20260628T132000
DTSTAMP:20260420T165358
CREATED:20260404T093352Z
LAST-MODIFIED:20260404T093352Z
UID:26700-1782652200-1782652800@flensgk.se
SUMMARY:Seriespel Mixed mot Katrineholm
DESCRIPTION:
URL:https://flensgk.se/event/seriespel-mixed-mot-katrineholm/
END:VEVENT
BEGIN:VEVENT
DTSTART;TZID=Europe/Stockholm:20260628T140000
DTEND;TZID=Europe/Stockholm:20260628T141000
DTSTAMP:20260420T165358
CREATED:20260404T100530Z
LAST-MODIFIED:20260404T100530Z
UID:26728-1782655200-1782655800@flensgk.se
SUMMARY:Seriespel Damer mot Katrineholm
DESCRIPTION:
URL:https://flensgk.se/event/seriespel-damer-mot-katrineholm/
END:VEVENT
END:VCALENDAR