BEGIN:VCALENDAR
VERSION:2.0
PRODID:-//Flens Golfklubb - ECPv6.15.20//NONSGML v1.0//EN
CALSCALE:GREGORIAN
METHOD:PUBLISH
X-ORIGINAL-URL:https://flensgk.se
X-WR-CALDESC:Händelser för Flens Golfklubb
REFRESH-INTERVAL;VALUE=DURATION:PT1H
X-Robots-Tag:noindex
X-PUBLISHED-TTL:PT1H
BEGIN:VTIMEZONE
TZID:Europe/Stockholm
BEGIN:DAYLIGHT
TZOFFSETFROM:+0100
TZOFFSETTO:+0200
TZNAME:CEST
DTSTART:20250330T010000
END:DAYLIGHT
BEGIN:STANDARD
TZOFFSETFROM:+0200
TZOFFSETTO:+0100
TZNAME:CET
DTSTART:20251026T010000
END:STANDARD
BEGIN:DAYLIGHT
TZOFFSETFROM:+0100
TZOFFSETTO:+0200
TZNAME:CEST
DTSTART:20260329T010000
END:DAYLIGHT
BEGIN:STANDARD
TZOFFSETFROM:+0200
TZOFFSETTO:+0100
TZNAME:CET
DTSTART:20261025T010000
END:STANDARD
BEGIN:DAYLIGHT
TZOFFSETFROM:+0100
TZOFFSETTO:+0200
TZNAME:CEST
DTSTART:20270328T010000
END:DAYLIGHT
BEGIN:STANDARD
TZOFFSETFROM:+0200
TZOFFSETTO:+0100
TZNAME:CET
DTSTART:20271031T010000
END:STANDARD
END:VTIMEZONE
BEGIN:VEVENT
DTSTART;TZID=Europe/Stockholm:20260606T060000
DTEND;TZID=Europe/Stockholm:20260606T070000
DTSTAMP:20260420T164108
CREATED:20260412T074655Z
LAST-MODIFIED:20260412T074655Z
UID:26991-1780725600-1780729200@flensgk.se
SUMMARY:Morronpeggarna
DESCRIPTION:
URL:https://flensgk.se/event/morronpeggarna-5/
END:VEVENT
BEGIN:VEVENT
DTSTART;TZID=Europe/Stockholm:20260606T130000
DTEND;TZID=Europe/Stockholm:20260606T220000
DTSTAMP:20260420T164108
CREATED:20260408T165241Z
LAST-MODIFIED:20260412T120928Z
UID:26887-1780750800-1780783200@flensgk.se
SUMMARY:Sjöslaget
DESCRIPTION:
URL:https://flensgk.se/event/nationaldagstavling/
END:VEVENT
END:VCALENDAR