BEGIN:VCALENDAR
VERSION:2.0
PRODID:-//Flens Golfklubb - ECPv6.15.20//NONSGML v1.0//EN
CALSCALE:GREGORIAN
METHOD:PUBLISH
X-ORIGINAL-URL:https://flensgk.se
X-WR-CALDESC:Händelser för Flens Golfklubb
REFRESH-INTERVAL;VALUE=DURATION:PT1H
X-Robots-Tag:noindex
X-PUBLISHED-TTL:PT1H
BEGIN:VTIMEZONE
TZID:Europe/Stockholm
BEGIN:DAYLIGHT
TZOFFSETFROM:+0100
TZOFFSETTO:+0200
TZNAME:CEST
DTSTART:20250330T010000
END:DAYLIGHT
BEGIN:STANDARD
TZOFFSETFROM:+0200
TZOFFSETTO:+0100
TZNAME:CET
DTSTART:20251026T010000
END:STANDARD
BEGIN:DAYLIGHT
TZOFFSETFROM:+0100
TZOFFSETTO:+0200
TZNAME:CEST
DTSTART:20260329T010000
END:DAYLIGHT
BEGIN:STANDARD
TZOFFSETFROM:+0200
TZOFFSETTO:+0100
TZNAME:CET
DTSTART:20261025T010000
END:STANDARD
BEGIN:DAYLIGHT
TZOFFSETFROM:+0100
TZOFFSETTO:+0200
TZNAME:CEST
DTSTART:20270328T010000
END:DAYLIGHT
BEGIN:STANDARD
TZOFFSETFROM:+0200
TZOFFSETTO:+0100
TZNAME:CET
DTSTART:20271031T010000
END:STANDARD
END:VTIMEZONE
BEGIN:VEVENT
DTSTART;TZID=Europe/Stockholm:20260601T100000
DTEND;TZID=Europe/Stockholm:20260601T103000
DTSTAMP:20260420T164107
CREATED:20260404T123602Z
LAST-MODIFIED:20260404T123602Z
UID:26746-1780308000-1780309800@flensgk.se
SUMMARY:Damernas trivselgolf
DESCRIPTION:
URL:https://flensgk.se/event/damernas-trivselgolf-7/
END:VEVENT
BEGIN:VEVENT
DTSTART;TZID=Europe/Stockholm:20260601T163000
DTEND;TZID=Europe/Stockholm:20260601T165000
DTSTAMP:20260420T164107
CREATED:20260415T093522Z
LAST-MODIFIED:20260415T093522Z
UID:27080-1780331400-1780332600@flensgk.se
SUMMARY:Seriespel H60 mot Trosa 1
DESCRIPTION:
URL:https://flensgk.se/event/seriespel-h60-mot-trosa-1/
END:VEVENT
END:VCALENDAR