BEGIN:VCALENDAR
VERSION:2.0
PRODID:-//Flens Golfklubb - ECPv6.15.20//NONSGML v1.0//EN
CALSCALE:GREGORIAN
METHOD:PUBLISH
X-WR-CALNAME:Flens Golfklubb
X-ORIGINAL-URL:https://flensgk.se
X-WR-CALDESC:Händelser för Flens Golfklubb
REFRESH-INTERVAL;VALUE=DURATION:PT1H
X-Robots-Tag:noindex
X-PUBLISHED-TTL:PT1H
BEGIN:VTIMEZONE
TZID:Europe/Stockholm
BEGIN:DAYLIGHT
TZOFFSETFROM:+0100
TZOFFSETTO:+0200
TZNAME:CEST
DTSTART:20250330T010000
END:DAYLIGHT
BEGIN:STANDARD
TZOFFSETFROM:+0200
TZOFFSETTO:+0100
TZNAME:CET
DTSTART:20251026T010000
END:STANDARD
BEGIN:DAYLIGHT
TZOFFSETFROM:+0100
TZOFFSETTO:+0200
TZNAME:CEST
DTSTART:20260329T010000
END:DAYLIGHT
BEGIN:STANDARD
TZOFFSETFROM:+0200
TZOFFSETTO:+0100
TZNAME:CET
DTSTART:20261025T010000
END:STANDARD
BEGIN:DAYLIGHT
TZOFFSETFROM:+0100
TZOFFSETTO:+0200
TZNAME:CEST
DTSTART:20270328T010000
END:DAYLIGHT
BEGIN:STANDARD
TZOFFSETFROM:+0200
TZOFFSETTO:+0100
TZNAME:CET
DTSTART:20271031T010000
END:STANDARD
END:VTIMEZONE
BEGIN:VEVENT
DTSTART;VALUE=DATE:20260530
DTEND;VALUE=DATE:20260531
DTSTAMP:20260420T162354
CREATED:20260418T064953Z
LAST-MODIFIED:20260418T064953Z
UID:27157-1780099200-1780185599@flensgk.se
SUMMARY:Mia jobbar
DESCRIPTION:
URL:https://flensgk.se/event/mia-jobbar-19/
END:VEVENT
BEGIN:VEVENT
DTSTART;TZID=Europe/Stockholm:20260530T061000
DTEND;TZID=Europe/Stockholm:20260530T070000
DTSTAMP:20260420T162354
CREATED:20260409T103707Z
LAST-MODIFIED:20260409T103707Z
UID:26966-1780121400-1780124400@flensgk.se
SUMMARY:Morronpeggarna
DESCRIPTION:
URL:https://flensgk.se/event/morronpeggarna-4/
END:VEVENT
BEGIN:VEVENT
DTSTART;TZID=Europe/Stockholm:20260530T071000
DTEND;TZID=Europe/Stockholm:20260530T075000
DTSTAMP:20260420T162354
CREATED:20260409T103910Z
LAST-MODIFIED:20260409T103910Z
UID:26968-1780125000-1780127400@flensgk.se
SUMMARY:Morronpinglor
DESCRIPTION:
URL:https://flensgk.se/event/morronpinglor/
END:VEVENT
BEGIN:VEVENT
DTSTART;TZID=Europe/Stockholm:20260530T080000
DTEND;TZID=Europe/Stockholm:20260530T085000
DTSTAMP:20260420T162354
CREATED:20260409T104014Z
LAST-MODIFIED:20260409T104014Z
UID:26970-1780128000-1780131000@flensgk.se
SUMMARY:Malmköpingstouren
DESCRIPTION:
URL:https://flensgk.se/event/malmkopingstouren-3/
END:VEVENT
BEGIN:VEVENT
DTSTART;TZID=Europe/Stockholm:20260530T090000
DTEND;TZID=Europe/Stockholm:20260530T095000
DTSTAMP:20260420T162354
CREATED:20260409T104127Z
LAST-MODIFIED:20260409T104127Z
UID:26972-1780131600-1780134600@flensgk.se
SUMMARY:Lördagstouren
DESCRIPTION:
URL:https://flensgk.se/event/lordagstouren-3/
END:VEVENT
BEGIN:VEVENT
DTSTART;TZID=Europe/Stockholm:20260530T120000
DTEND;TZID=Europe/Stockholm:20260530T150000
DTSTAMP:20260420T162354
CREATED:20260223T124447Z
LAST-MODIFIED:20260325T132649Z
UID:26302-1780142400-1780153200@flensgk.se
SUMMARY:Grönt kort\, Nybörjar kurs nr 2\, 23/5 & 30/5
DESCRIPTION:Vad ingår i Grönt Kort\, Nybörjarkurs\n\n2*3h (sving\, pitch\, chip. putt och bunker).\nTeorimaterial online.\nLån av utrustning vid behov.\nFria träningsbollar på rangen under kursen.\nVi erbjuder faddergolf för träning och uppspel på banan.\nGrönt kort erhålles efter genomfört program.\n\nAnmäl till info@flensgk.se eller ring 0157-15770 \nPris för kurs\, från 22 år: 1750 kr \nBarn och ungdomar under 22 år erbjuds kursen gratis om de sedan blir medlemmar. \nMedlemskap samma år som kursen: \n1750 kr från 18 år \n700 kr upp till 17 år \nI Medlemskap på Flens GK under säsongen 2026 ingår Golf-ID & försäkring under spel
URL:https://flensgk.se/event/gront-kort-nyborjar-kurs-nr-2-23-5-30-5-2/
LOCATION:Norrtorps golfbana
ORGANIZER;CN="Flens golfklubb":MAILTO:info@flensgk.se
END:VEVENT
END:VCALENDAR